BEGIN:VCALENDAR
VERSION:2.0
PRODID:-//ChamberMaster//Event Calendar 2.0//EN
METHOD:PUBLISH
X-PUBLISHED-TTL:P3D
REFRESH-INTERVAL:P3D
CALSCALE:GREGORIAN
BEGIN:VEVENT
DTSTART:20220620T143000Z
DTEND:20220621T000000Z
X-MICROSOFT-CDO-ALLDAYEVENT:FALSE
SUMMARY:2022 Annual Golf Outing
DESCRIPTION:LET'S PAR TEE! The 42nd Annual Chamber Golf Outing will take place on Monday\, June 20th at the beautiful Willow Creek Golf Course! The day will be filled with great networking\, good food and exciting golf. The team with the lowest score will be awarded the President's Cup. \n\n\n\nWe are currently sold out of teams\, but please Call (507) 424-5687 or contact Ally Sheehan at asheehan@RochesterMNChamber.com for more information or to be placed on the waitlist.\n\n\n\nDate: Monday\, June 20\, 2022\n\nRegistration: 9:30AM - 11:00AM\n\nShotgun Start: 11:00AM\n\nDinner and Awards: 5:00PM - 7:00PM\n\n\n\nTEAMS ARE SOLD OUT\n\nEarly Bird Rates: March 7   April 30\n\n	Individual registration - $165\n	Team of four registration - $660\n\n   Golf Rates: May 1   June 17\n\n\n	Individual registration - $200\n	Team of four registration - $800
X-ALT-DESC;FMTTYPE=text/html:<span style="font-size:14px\;"><span style="font-family:verdana\;"><span style="color:black\;">LET&rsquo\;S PAR TEE! The 42<sup>nd</sup> Annual Chamber Golf Outing will take place on Monday\, June 20th at the beautiful Willow Creek Golf Course! The day will be filled with great networking\, good food and exciting golf. The team with the lowest score will be awarded the President&rsquo\;s Cup.&nbsp\;</span><br />\n<br />\n<span style="color:black\;">We are currently sold out of teams\, but please Call (507) 424-5687 or contact Ally Sheehan at </span><a href="mailto:asheehan@RochesterMNChamber.com" target="_blank"><span style="color:#3661BD\;">asheehan@RochesterMNChamber.com</span></a><span style="color:black\;"> for more information or to be placed on the waitlist.</span><br />\n<br />\nDate:&nbsp\;Monday\, June 20\, 2022<br />\nRegistration: 9:30AM - 11:00AM<br />\nShotgun Start: 11:00AM<br />\nDinner and Awards: 5:00PM - 7:00PM<br />\n<br />\n<strong><span style="color:red\;">TEAMS ARE SOLD OUT</span></strong><br />\nEarly Bird Rates: March 7 &ndash\; April 30</span></span>\n<ul>\n	<li><span style="font-size:14px\;"><span style="font-family:verdana\;">Individual registration - $165</span></span></li>\n	<li><span style="font-size:14px\;"><span style="font-family:verdana\;">Team of four registration - $660</span></span></li>\n</ul>\n<span style="font-size:14px\;"><span style="font-family:verdana\;"> <strong style="color: rgb(0\, 0\, 0)\;">&#8203\;</strong> Golf Rates: May 1 &ndash\; June 17</span></span>\n\n<ul>\n	<li style="color:#333333\;line-height:normal\;"><span style="font-size:14px\;"><span style="font-family:verdana\;">Individual registration - $200</span></span></li>\n	<li style="color:#333333\;line-height:normal\;"><span style="font-size:14px\;"><span style="font-family:verdana\;">Team of four registration - $800</span></span></li>\n</ul>\n
LOCATION:Willow Creek Golf Course 1700 48th ST SW Rochester\, MN 55902
UID:e.1427.1515193
SEQUENCE:3
DTSTAMP:20260419T155514Z
URL:http://business.rochestermnchamber.com/events/details/2022-annual-golf-outing-1515193
END:VEVENT

END:VCALENDAR
