BEGIN:VCALENDAR
VERSION:2.0
PRODID:-//ChamberMaster//Event Calendar 2.0//EN
METHOD:PUBLISH
X-PUBLISHED-TTL:P3D
REFRESH-INTERVAL:P3D
CALSCALE:GREGORIAN
BEGIN:VEVENT
DTSTART:20220414T130000Z
DTEND:20220414T143000Z
X-MICROSOFT-CDO-ALLDAYEVENT:FALSE
SUMMARY:2022 Legislative Update
DESCRIPTION:The annual Legislative Update highlights the current Minnesota legislative session and the issues impacting businesses and organizations. Featuring area legislators and the Minnesota Department of Employment and Economic Development\, this event connects Chamber members directly with the decision makers in St. Paul for information and discussion.\n \nAgenda:\n\n7:30am - Registration\n\n8:00am - Welcome\n\n8:00am - Legislative Panel Discussion\n\n\n	Moderator   Marco Lanz\, Director of Alumni and Development Relationships\, University of Minnesota Rochester\n	Representative Liz Boldon \n	Representative Tina Liebling\n	Representative Nels Pierson \n	Representative Duane Quam \n	Senator David Senjem\n\n\n8:50am - Legislative Update: Minnesota Department of Employment and Economic Development   Legislative Perspective\, Priorities & Outlook \n\n\n	Steve Grove\, Commissioner\, Minnesota Department of Employment and Economic Development (DEED)\n\n\n\n\n*Agenda subject to change
X-ALT-DESC;FMTTYPE=text/html:<span style="color: rgb(0\, 0\, 0)\; font-family: Arial\, Verdana\, Helvetica\, sans-serif\; font-size: 16px\; white-space: pre-wrap\;">The annual Legislative Update highlights the current Minnesota legislative session and the issues impacting businesses and organizations. Featuring area legislators and the Minnesota Department of Employment and Economic Development\, this event connects Chamber members directly with the decision makers in St. Paul for information and discussion.</span>\n<div style="margin: 0px\; padding: 0px\; border: 0px\; font-variant-numeric: inherit\; font-variant-east-asian: inherit\; font-stretch: inherit\; font-size: 14px\; line-height: inherit\; font-family: Arial\, Verdana\, Helvetica\, sans-serif\; vertical-align: baseline\; color: rgb(64\, 63\, 66)\;">&nbsp\;\n<div style="color: rgb(64\, 63\, 66)\; font-family: Arial\, Verdana\, Helvetica\, sans-serif\; font-size: 14px\; white-space: pre-wrap\;"><span style="font-size: 16px\; color: rgb(51\, 51\, 51)\; font-weight: bold\;">Agenda:</span></div>\n\n<div style="color: rgb(64\, 63\, 66)\; font-family: Arial\, Verdana\, Helvetica\, sans-serif\; font-size: 14px\; white-space: pre-wrap\;"><span style="font-size: 16px\; color: rgb(0\, 0\, 0)\;">7:30am - Registration</span></div>\n\n<div style="color: rgb(64\, 63\, 66)\; font-family: Arial\, Verdana\, Helvetica\, sans-serif\; font-size: 14px\; white-space: pre-wrap\;"><span style="font-size: 16px\; color: rgb(0\, 0\, 0)\;">8:00am - Welcome</span></div>\n\n<div style="color: rgb(64\, 63\, 66)\; font-family: Arial\, Verdana\, Helvetica\, sans-serif\; font-size: 14px\; white-space: pre-wrap\;"><span style="font-size: 16px\; color: rgb(0\, 0\, 0)\;">8:00am - Legislative Panel Discussion</span></div>\n\n<ul style="padding-right: 0px\; padding-left: 0px\; margin: 0px 0px 0px 40px\; color: rgb(64\, 63\, 66)\; font-family: Arial\, Verdana\, Helvetica\, sans-serif\; font-size: 14px\; white-space: pre-wrap\;">\n	<li style="padding: 0px\; margin: 0px\; line-height: 1.2\; font-size: 16px\; color: rgb(0\, 0\, 0)\;">Moderator &ndash\; Marco Lanz\, Director of Alumni and Development Relationships\, University of Minnesota Rochester</li>\n	<li style="padding: 0px\; margin: 0px\; line-height: 1.2\; font-size: 16px\; color: rgb(0\, 0\, 0)\;">Representative Liz Boldon&nbsp\;</li>\n	<li style="padding: 0px\; margin: 0px\; line-height: 1.2\; font-size: 16px\; color: rgb(0\, 0\, 0)\;">Representative Tina Liebling</li>\n	<li style="padding: 0px\; margin: 0px\; line-height: 1.2\; font-size: 16px\; color: rgb(0\, 0\, 0)\;">Representative Nels Pierson&nbsp\;</li>\n	<li style="padding: 0px\; margin: 0px\; line-height: 1.2\; font-size: 16px\; color: rgb(0\, 0\, 0)\;">Representative Duane Quam&nbsp\;</li>\n	<li style="padding: 0px\; margin: 0px\; line-height: 1.2\; font-size: 16px\; color: rgb(0\, 0\, 0)\;">Senator David Senjem</li>\n</ul>\n\n<div style="color: rgb(64\, 63\, 66)\; font-family: Arial\, Verdana\, Helvetica\, sans-serif\; font-size: 14px\; white-space: pre-wrap\;"><span style="font-size: 16px\; color: rgb(0\, 0\, 0)\;">8:50am - Legislative Update: Minnesota Department of Employment and Economic Development &ndash\;&nbsp\;Legislative Perspective\, Priorities &amp\; Outlook&nbsp\;</span></div>\n\n<ul style="padding-right: 0px\; padding-left: 0px\; margin: 0px 0px 0px 40px\; color: rgb(64\, 63\, 66)\; font-family: Arial\, Verdana\, Helvetica\, sans-serif\; font-size: 14px\; white-space: pre-wrap\;">\n	<li style="padding: 0px\; margin: 0px\; line-height: 1.2\; font-size: 16px\; color: rgb(0\, 0\, 0)\;">Steve Grove\, Commissioner\, Minnesota&nbsp\;Department of Employment and Economic&nbsp\;Development (DEED)</li>\n</ul>\n\n<div style="padding: 0px\; margin: 0px\; line-height: 1.2\; font-size: 16px\; color: rgb(0\, 0\, 0)\;"><br />\n*Agenda subject to change</div>\n</div>\n
LOCATION:The Hilton Rochester Mayo Clinic Area 10 E Center St. Rochester\, MN 55904
UID:e.1427.1515328
SEQUENCE:3
DTSTAMP:20260419T235911Z
URL:http://business.rochestermnchamber.com/events/details/2022-legislative-update-1515328
END:VEVENT

END:VCALENDAR
