BEGIN:VCALENDAR
VERSION:2.0
PRODID:-//ChamberMaster//Event Calendar 2.0//EN
METHOD:PUBLISH
X-PUBLISHED-TTL:P3D
REFRESH-INTERVAL:P3D
CALSCALE:GREGORIAN
BEGIN:VEVENT
DTSTART:20191011T120000Z
DTEND:20191011T133000Z
X-MICROSOFT-CDO-ALLDAYEVENT:FALSE
SUMMARY:A look at the Long Range Transportation Plan Update: October 2019 Joint Meeting Government Affairs and Transportation Forum
DESCRIPTION:Join Dave Pesch\, Rochester/Olmsted Council on Governments (ROCOG) Planning Coordinator and Director of Olmsted County Planning\, Ben Griffith to learn about our area's Long Range Transportation Plan Update.\n\n\n\nThis update\, mandated by the federal government\, will look at planning transportation in our area out to 2045.
X-ALT-DESC;FMTTYPE=text/html:<span style="color: rgb(32\, 31\, 30)\; font-family: &quot\;Helvetica Neue&quot\;\, Helvetica\, Arial\, sans-serif\; font-size: 15px\; white-space: pre-wrap\;">Join <strong>Dave Pesch</strong>\, Rochester/Olmsted Council on Governments (ROCOG) Planning Coordinator and Director of Olmsted County Planning\, <strong>Ben Griffith</strong> to learn about our area&#39\;s Long Range Transportation Plan Update.<br />\n<br />\nThis update\, mandated by the federal government\, will look at planning transportation in our area out to 2045.</span>
LOCATION:220 S Broadway Ste 100 Rochester\, MN 55904
UID:e.1427.1514828
SEQUENCE:3
DTSTAMP:20260424T094404Z
URL:http://business.rochestermnchamber.com/events/details/a-look-at-the-long-range-transportation-plan-update-october-2019-joint-meeting-government-affairs-and-transportation-forum-1514828
END:VEVENT

END:VCALENDAR
