BEGIN:VCALENDAR
VERSION:2.0
PRODID:-//ChamberMaster//Event Calendar 2.0//EN
METHOD:PUBLISH
X-PUBLISHED-TTL:P3D
REFRESH-INTERVAL:P3D
CALSCALE:GREGORIAN
BEGIN:VEVENT
DTSTART:20220603T123000Z
DTEND:20220603T140000Z
X-MICROSOFT-CDO-ALLDAYEVENT:FALSE
SUMMARY:AM Espresso - Home Federal Bank
DESCRIPTION:AM Espresso is a monthly Networking PLUS event brought to you by the Chamber. Come join fellow Chamber and community members to expand your network\, promote your business\, and enjoy delicious breakfast refreshments. We believe there is value for all in building a supportive business community. This month\, join us at Home Federal Savings Bank!\n\n\n\nHome Federal Savings Bank was founded in Spring Valley\, MN in 1934. Now headquartered in Rochester\, MN\, Home Federal has 14 branches and two loan production offices in MN\, WI\, and IA. They enhance the financial well-being of their clients and community one relationship at a time.
X-ALT-DESC;FMTTYPE=text/html:<span style="font-family:verdana\;"><span style="font-size:16px\;"><span style="box-sizing: border-box\; outline: 0px\; color: rgb(29\, 33\, 41)\;"><span style="box-sizing: border-box\; outline: 0px\;"><span style="box-sizing: border-box\; outline: 0px\;">AM Espresso is a monthly Networking PLUS event brought to you by the Chamber. Come join fellow Chamber and community members to expand your network\, promote your business\, and enjoy delicious breakfast refreshments. We believe there is value for all in building a supportive business community.&nbsp\;</span></span></span></span><span style="box-sizing: border-box\; color: rgb(32\, 31\, 32)\;"><span style="box-sizing: border-box\;"><span style="box-sizing: border-box\; font-size: 13.5pt\;"><span style="font-size:16px\;">This month\, join us at Home Federal Savings Bank!</span></span></span></span><br />\n<br />\n<span style="font-size:16px\;"><span style="color:black\;">Home Federal Savings Bank was founded in Spring Valley\, MN in 1934. Now headquartered in Rochester\, MN\, Home Federal has 14 branches and two loan production offices in MN\, WI\, and IA. They enhance the financial well-being of their clients and community one relationship at a time.</span></span></span>
LOCATION:Home Federal Bank 2048 Superior Dr. NW\, STE 400 Rochester MN 55901
UID:e.1427.1515196
SEQUENCE:3
DTSTAMP:20260419T155858Z
URL:http://business.rochestermnchamber.com/events/details/am-espresso-home-federal-bank-1515196
END:VEVENT

END:VCALENDAR
