BEGIN:VCALENDAR
VERSION:2.0
PRODID:-//ChamberMaster//Event Calendar 2.0//EN
METHOD:PUBLISH
X-PUBLISHED-TTL:P3D
REFRESH-INTERVAL:P3D
CALSCALE:GREGORIAN
BEGIN:VEVENT
DTSTART:20191004T123000Z
DTEND:20191004T140000Z
X-MICROSOFT-CDO-ALLDAYEVENT:FALSE
SUMMARY:AM Espresso - October '19
DESCRIPTION:Join us for AM Espresso and start your Friday by expanding your customer base and generating new business leads! AM Espresso is a convenient way to network at a member's place of business while enjoying coffee and continental breakfast. This is an informal event where you will have the opportunity to introduce yourself and your business to more than 100 Chamber members. Invite a friend and remember to bring lots of business cards!
X-ALT-DESC;FMTTYPE=text/html:<span style="font-family: Arial\, sans-serif\; font-size: 18px\;">Join us for AM Espresso and start your Friday by expanding your customer base and generating new business leads! AM Espresso is a convenient way to network at a member&#39\;s place of business while enjoying coffee and continental breakfast. This is an informal event where you will have the opportunity to introduce yourself and your business to more than 100 Chamber members. Invite a friend and remember to bring lots of business cards!&nbsp\;</span>
LOCATION:History Center of Olmsted County 1195 West Circle Drive Rochester\, MN 55902
UID:e.1427.1514616
SEQUENCE:3
DTSTAMP:20260424T082927Z
URL:http://business.rochestermnchamber.com/events/details/am-espresso-october-19-1514616
END:VEVENT

END:VCALENDAR
