BEGIN:VCALENDAR
VERSION:2.0
PRODID:-//ChamberMaster//Event Calendar 2.0//EN
METHOD:PUBLISH
X-PUBLISHED-TTL:P3D
REFRESH-INTERVAL:P3D
CALSCALE:GREGORIAN
BEGIN:VEVENT
DTSTART:20181214T133000Z
DTEND:20181214T150000Z
X-MICROSOFT-CDO-ALLDAYEVENT:FALSE
SUMMARY:AM Espresso Small Business Expo
DESCRIPTION:AM Espresso Small Business Expo  is the Chamber's newest networking event.  This new take on an old favorite brings four small businesses together at a host location once a quarter to connect with a large crowd of Chamber members.  Attendees will enjoy coffee\, continental breakfast\, networking\, prizes and the opportunity to learn about these small businesses.  \n\n\n\nParticipating small businesses will have the opportunity to set up a booth\,  interact with attendees and tell their story as part of the program.  \n\n\n\nInvite a friend and remember to bring lots of business cards!
X-ALT-DESC;FMTTYPE=text/html:<br />\n<span style="font-family: arial\;"><span style="font-size: 16px\;"><strong><span style="color: rgb(197\, 90\, 17)\;">AM Espresso Small Business Expo </span></strong><span style="color: black\;">&nbsp\;is the Chamber&#39\;s newest networking event.&nbsp\; This new take on an old favorite brings four small businesses together at a host location once a quarter to connect with a large crowd of Chamber members.&nbsp\; Attendees will enjoy coffee\, continental breakfast\, networking\, prizes and the opportunity to learn about these small businesses. &nbsp\;<br />\n<br />\nParticipating small businesses will have the opportunity to set up a booth\,&nbsp\; interact with attendees and tell&nbsp\;their story as part of the program. &nbsp\;<br />\n<br />\nInvite a friend and remember to bring lots of business cards!</span></span></span>
LOCATION:125 Live 125 Elton Hills Dr Rochester\, MN 55901
UID:e.1427.1514548
SEQUENCE:3
DTSTAMP:20260425T172048Z
URL:http://business.rochestermnchamber.com/events/details/am-espresso-small-business-expo-1514548
END:VEVENT

END:VCALENDAR
