BEGIN:VCALENDAR
VERSION:2.0
PRODID:-//ChamberMaster//Event Calendar 2.0//EN
METHOD:PUBLISH
X-PUBLISHED-TTL:P3D
REFRESH-INTERVAL:P3D
CALSCALE:GREGORIAN
BEGIN:VEVENT
DTSTART:20190627T220000Z
DTEND:20190628T000000Z
X-MICROSOFT-CDO-ALLDAYEVENT:FALSE
SUMMARY:Business After Hours
DESCRIPTION:CANCELLED DUE TO INCLEMENT WEATHER CONDITIONS Join us for Business after Hours (BAH)\, a monthly networking function which brings more than 100 professionals together to network and build valuable business relationships. Enjoy delicious food and drinks while connecting with a variety of business and organizations operating in the greater Rochester area. This event is a great opportunity to increase your organization's visibility and generate productive business leads.\n\n\n\nThe first 200 people at the Community Happy Hour receive a ticket for a free beer or pop
X-ALT-DESC;FMTTYPE=text/html:<span style="color:#212121\;"><span style="font-family:arial\,sans-serif\;"><span style="font-size:10.5pt\;"><strong>CANCELLED DUE TO INCLEMENT WEATHER CONDITIONS</strong> Join us for <strong>Business after Hours</strong> (BAH)\, a monthly networking function which brings more than 100 professionals together to network and build valuable business relationships. Enjoy delicious food and drinks while connecting with a variety of business and organizations operating in the greater Rochester area. This event is a great opportunity to increase your organization&rsquo\;s visibility and generate productive business leads.<br />\n<br />\nThe first 200 people at the Community Happy Hour receive a ticket for a free beer or pop</span></span></span><br />\n&nbsp\;
LOCATION:Rochesterfest Soldiers Field Rochester\, MN
UID:e.1427.1514543
SEQUENCE:3
DTSTAMP:20260424T182144Z
URL:http://business.rochestermnchamber.com/events/details/business-after-hours-1514543
END:VEVENT

END:VCALENDAR
