BEGIN:VCALENDAR
VERSION:2.0
PRODID:-//ChamberMaster//Event Calendar 2.0//EN
METHOD:PUBLISH
X-PUBLISHED-TTL:P3D
REFRESH-INTERVAL:P3D
CALSCALE:GREGORIAN
BEGIN:VEVENT
DTSTART:20191112T203000Z
DTEND:20191113T000000Z
X-MICROSOFT-CDO-ALLDAYEVENT:FALSE
SUMMARY:Caravel Autism Health Grand Opening
DESCRIPTION:Caravel Autism Health is celebrating their grand opening with a ribbon cutting ceremony from 2:30-3:00 followed by an open house at their new facility. \n\n\n\nFor more information\, visit Caravel's website.
X-ALT-DESC;FMTTYPE=text/html:Caravel Autism Health is celebrating their grand opening with a ribbon cutting ceremony from 2:30-3:00 followed by an open house at their new facility.&nbsp\;<br />\n<br />\nFor more information\, visit Caravel&#39\;s <a href="https://caravelautism.com/locations/rochester/">website</a>.
LOCATION:1470 Industrial Dr. Rochester\, MN 55901
UID:e.1427.1514840
SEQUENCE:3
DTSTAMP:20260424T011950Z
URL:http://business.rochestermnchamber.com/events/details/caravel-autism-health-grand-opening-1514840
END:VEVENT

END:VCALENDAR
