BEGIN:VCALENDAR
VERSION:2.0
PRODID:-//ChamberMaster//Event Calendar 2.0//EN
METHOD:PUBLISH
X-PUBLISHED-TTL:P3D
REFRESH-INTERVAL:P3D
CALSCALE:GREGORIAN
BEGIN:VEVENT
DTSTART:20220817T203000Z
DTEND:20220817T213000Z
X-MICROSOFT-CDO-ALLDAYEVENT:FALSE
SUMMARY:Chamber 101
DESCRIPTION:Are you a new member of the Rochester Area Chamber of Commerce\, or a long-time member needing a refresh? Join us at our Chamber 101 event at the Heartland Gun Club and Range on Wednesday\, August 17th. This event will help educate you on your membership and highlight the resources and tools that we provide to help you meet your business goals and objectives! Snacks\, refreshments\, and door prizes will be provided. \n\n \n\nHeartland Gun Club and Range offers 12 luxury shooting lanes\, a full retail selection\, comprehensive classes\, private event spaces\, and a variety of different memberships.
X-ALT-DESC;FMTTYPE=text/html:<div><span style="font-size:16px\;"><span style="font-family:arial\;"><span style="background:white\;"><span style="color:#333333\;">Are you a new member of the Rochester Area Chamber of Commerce\, or a long-time member needing a refresh? Join us at our Chamber 101 event at the Heartland Gun Club and Range on Wednesday\, August 17<sup>th</sup>. This event will help educate you on your membership and highlight the resources and tools that we provide to help you meet your business goals and objectives! Snacks\, refreshments\, and door prizes will be provided. </span></span><br />\n&nbsp\;<br />\n<span style="background:white\;"><span style="color:#333333\;">Heartland Gun Club and Range offers 12 luxury shooting lanes\, a full retail selection\, comprehensive classes\, private event spaces\, and a variety of different memberships. </span></span></span></span></div>\n
LOCATION:Heartland Gun Club and Range 5105 Commercial Dr. SW Rochester\, MN 55902
UID:e.1427.1515345
SEQUENCE:3
DTSTAMP:20260424T134010Z
URL:http://business.rochestermnchamber.com/events/details/chamber-101-1515345
END:VEVENT

END:VCALENDAR
