BEGIN:VCALENDAR
VERSION:2.0
PRODID:-//ChamberMaster//Event Calendar 2.0//EN
METHOD:PUBLISH
X-PUBLISHED-TTL:P3D
REFRESH-INTERVAL:P3D
CALSCALE:GREGORIAN
BEGIN:VEVENT
DTSTART:20220617T163000Z
DTEND:20220617T180000Z
X-MICROSOFT-CDO-ALLDAYEVENT:FALSE
SUMMARY:Chamber Weekend Kickoff
DESCRIPTION:Start your weekend with the Chamber team!\n\n \n\nThe Rochester Area Chamber of Commerce is excited to bring back Chamber Weekend Kickoff! We welcome members to join us for a free lunch and connection with other fellow members on Friday\, June 17th.  The Chamber will be grilling and serving lunch from 11:30am-1:00pm at the Saint Mary's University Rochester Campus - Cascade Meadow.\n\n \n\nQuantities are limited and registration is requested and greatly appreciated. \n\n \n\nThank you to EO Johnson\, Saint Mary's University Rochester Campus\, Pepsi-Cola and Ye Olde Butcher Shoppe for their partnership and support of the Chamber Weekend Kickoff.\n\n \n\nGrab your team and co-workers and meet us at Cascade Meadow for a lunch on us to start your weekend off right! We hope to see you there!
X-ALT-DESC;FMTTYPE=text/html:<p class="x_MsoNormal" style="margin: 0in 0in 0.0001pt\; font-size: 11pt\; font-family: Calibri\, sans-serif\; color: rgb(32\, 31\, 30)\;"><span style="font-size:24px\;"><strong>Start your weekend with the Chamber team!</strong></span></p>\n\n<p class="x_MsoNormal" style="margin: 0in 0in 0.0001pt\; font-size: 11pt\; font-family: Calibri\, sans-serif\; color: rgb(32\, 31\, 30)\;">&nbsp\;</p>\n\n<p class="xmsonormal" style="margin:0in"><span style="font-size:13.5pt\;\nfont-family:&quot\;Calibri&quot\;\,sans-serif\;color:#201F1E">The Rochester Area Chamber of Commerce is excited to bring back Chamber Weekend Kickoff! We welcome members to join us for a free lunch and connection with other fellow members on Friday\, June 17<sup>th</sup>.&nbsp\; The Chamber will be grilling and serving lunch from 11:30am-1:00pm at the Saint Mary&#39\;s University Rochester Campus - Cascade Meadow.</span><span style="font-size:11.0pt\;font-family:&quot\;Calibri&quot\;\,sans-serif\;\ncolor:#201F1E"><o:p></o:p></span></p>\n\n<p class="x_MsoNormal" style="margin: 0in 0in 0.0001pt\; font-size: 11pt\; font-family: Calibri\, sans-serif\; color: rgb(32\, 31\, 30)\;">&nbsp\;</p>\n\n<p class="x_MsoNormal" style="margin: 0in 0in 0.0001pt\; font-size: 11pt\; font-family: Calibri\, sans-serif\; color: rgb(32\, 31\, 30)\;"><span style="font-size:18px\;"><b>Quantities are limited and registration is requested and greatly appreciated.&nbsp\;</b></span></p>\n\n<p class="x_MsoNormal" style="margin: 0in 0in 0.0001pt\; font-size: 11pt\; font-family: Calibri\, sans-serif\; color: rgb(32\, 31\, 30)\;">&nbsp\;</p>\n\n<p class="xmsonormal" style="margin:0in"><span style="font-size:13.5pt\;\nfont-family:&quot\;Calibri&quot\;\,sans-serif\;color:#201F1E">Thank you to EO Johnson\, Saint Mary&#39\;s University Rochester Campus\, Pepsi-Cola and Ye Olde Butcher Shoppe&nbsp\;for their partnership and support of the Chamber Weekend Kickoff.</span><span style="font-size:11.0pt\;font-family:&quot\;Calibri&quot\;\,sans-serif\;\ncolor:#201F1E"><o:p></o:p></span></p>\n\n<p class="xmsonormal" style="margin:0in"><span style="font-size:11.0pt\;\nfont-family:&quot\;Calibri&quot\;\,sans-serif\;color:#201F1E"><o:p>&nbsp\;</o:p></span></p>\n\n<p class="xmsonormal" style="margin-top:0in\;margin-right:0in\;margin-bottom:12.0pt\;\nmargin-left:0in"><span style="font-size:13.5pt\;font-family:&quot\;Calibri&quot\;\,sans-serif\;\ncolor:#201F1E">Grab your team and co-workers and meet us at Cascade Meadow&nbsp\;for a lunch on us to start your weekend off right! We hope to see you there! </span><span style="font-size:9.0pt\;font-family:&quot\;Trebuchet MS&quot\;\,sans-serif\;color:black"><o:p></o:p></span></p>\n
LOCATION:Saint Mary's University Rochester Campus Cascade Meadow 2900 19th Street NW Rochester\, MN 55901
UID:e.1427.1515334
SEQUENCE:3
DTSTAMP:20260419T153807Z
URL:http://business.rochestermnchamber.com/events/details/chamber-weekend-kickoff-1515334
END:VEVENT

END:VCALENDAR
