BEGIN:VCALENDAR
VERSION:2.0
PRODID:-//ChamberMaster//Event Calendar 2.0//EN
METHOD:PUBLISH
X-PUBLISHED-TTL:P3D
REFRESH-INTERVAL:P3D
CALSCALE:GREGORIAN
BEGIN:VEVENT
DTSTART:20190222T133000Z
DTEND:20190222T150000Z
X-MICROSOFT-CDO-ALLDAYEVENT:FALSE
SUMMARY:Eggs & Issues: What are Minnesota's Budget Priorities?
DESCRIPTION:Come for the breakfast and stay to hear about the issues important to you!\n\n \n\nJoin us for 2019's second Eggs & Issues featuring a discussion about Statewide issues with Minnesota Management and Budget Commissioner Myron Frans.\n\n \n\nHighlights of the morning:\n\n\n	This will be one of the first groups to hear about the the Governor's Budget Recommendations\, which will be released on February 19\, from Mr. Frans\n	 Opportunity to ask your budget questions of the Commissioner\n	Opportunity to see interaction between our local legislators and the Commissioner\n	Opportunity to ask questions to our local delegation about key issues like the budget\, Highway 14 and tax conformity
X-ALT-DESC;FMTTYPE=text/html:<p dir="ltr" style="line-height:1.38\;margin-top:0pt\;margin-bottom:0pt\;background-color:#ffffff\;"><span style="font-size:14px\;"><span style="font-family:arial\;"><span id="docs-internal-guid-12b8635b-7fff-3a75-2081-dde26a405aaf"><span style="font-variant-numeric: normal\; font-variant-east-asian: normal\; vertical-align: baseline\; white-space: pre-wrap\;">Come for the breakfast and stay to hear about the issues important to you!</span></span></span></span></p>\n\n<p dir="ltr" style="line-height:1.38\;margin-top:0pt\;margin-bottom:0pt\;background-color:#ffffff\;"><span style="font-size:14px\;"><span style="font-family:arial\;"><span id="docs-internal-guid-12b8635b-7fff-3a75-2081-dde26a405aaf">&nbsp\;</span></span></span></p>\n\n<p dir="ltr" style="line-height:1.38\;margin-top:0pt\;margin-bottom:0pt\;background-color:#ffffff\;"><span style="font-size:14px\;"><span style="font-family:arial\;"><span id="docs-internal-guid-12b8635b-7fff-3a75-2081-dde26a405aaf"><span style="font-variant-numeric: normal\; font-variant-east-asian: normal\; vertical-align: baseline\; white-space: pre-wrap\;">Join us for 2019&#39\;s second Eggs &amp\; Issues featuring a discussion about Statewide issues with Minnesota Management and Budget Commissioner Myron Frans.</span></span></span></span></p>\n\n<p dir="ltr" style="line-height:1.38\;margin-top:0pt\;margin-bottom:0pt\;background-color:#ffffff\;"><span style="font-size:14px\;"><span style="font-family:arial\;"><span id="docs-internal-guid-12b8635b-7fff-3a75-2081-dde26a405aaf">&nbsp\;</span></span></span></p>\n\n<p dir="ltr" style="line-height:1.38\;margin-top:0pt\;margin-bottom:0pt\;background-color:#ffffff\;"><span style="font-size:14px\;"><span style="font-family:arial\;"><span id="docs-internal-guid-12b8635b-7fff-3a75-2081-dde26a405aaf"><span style="font-variant-numeric: normal\; font-variant-east-asian: normal\; vertical-align: baseline\; white-space: pre-wrap\;">Highlights of the morning:</span></span></span></span></p>\n\n<ul dir="ltr">\n	<li style="line-height: 1.38\; margin-top: 0pt\; margin-bottom: 0pt\; background-color: rgb(255\, 255\, 255)\;"><span style="font-size:14px\;"><span style="font-family:arial\;">This will be one of the first groups to hear about the the Governor&rsquo\;s Budget Recommendations\, which will be released on February 19\, from Mr. Frans</span></span></li>\n	<li style="line-height: 1.38\; margin-top: 0pt\; margin-bottom: 0pt\; background-color: rgb(255\, 255\, 255)\;"><span style="font-size:14px\;"><span style="font-family:arial\;"><span style="font-variant-numeric: normal\; font-variant-east-asian: normal\; vertical-align: baseline\; white-space: pre-wrap\;">&#8203\;<span style="font-variant-numeric: normal\; font-variant-east-asian: normal\; vertical-align: baseline\; white-space: pre-wrap\;">Opportunity to ask your budget questions of the Commissioner</span></span></span></span></li>\n	<li style="line-height: 1.38\; margin-top: 0pt\; margin-bottom: 0pt\; background-color: rgb(255\, 255\, 255)\;"><span style="font-size:14px\;"><span style="font-family:arial\;">Opportunity to see interaction between our local legislators and the Commissioner</span></span></li>\n	<li><span style="font-size:14px\;"><span style="font-family:arial\;"><span id="docs-internal-guid-12b8635b-7fff-3a75-2081-dde26a405aaf"><span style="font-variant-numeric: normal\; font-variant-east-asian: normal\; vertical-align: baseline\; white-space: pre-wrap\;"><span id="docs-internal-guid-12b8635b-7fff-3a75-2081-dde26a405aaf"><span style="font-variant-numeric: normal\; font-variant-east-asian: normal\; vertical-align: baseline\; white-space: pre-wrap\;">Opportunity to ask questions to our local delegation about key issues like the budget\, Highway 14 and tax conformity</span></span></span></span></span></span></li>\n</ul>\n
LOCATION:Rochester Golf & Country Club 3100 Country Club Rd SW Rochester\, MN 55902
UID:e.1427.1514576
SEQUENCE:3
DTSTAMP:20260425T035440Z
URL:http://business.rochestermnchamber.com/events/details/eggs-issues-what-are-minnesota-s-budget-priorities-1514576
END:VEVENT

END:VCALENDAR
