BEGIN:VCALENDAR
VERSION:2.0
PRODID:-//ChamberMaster//Event Calendar 2.0//EN
METHOD:PUBLISH
X-PUBLISHED-TTL:P3D
REFRESH-INTERVAL:P3D
CALSCALE:GREGORIAN
BEGIN:VEVENT
DTSTART:20190208T130000Z
DTEND:20190208T143000Z
X-MICROSOFT-CDO-ALLDAYEVENT:FALSE
SUMMARY:February 2019 Transportation Forum
DESCRIPTION:Join us for the February Transportation Forum to hear from Deputy City Administrator Aaron Parrish. Aaron will be discussing the recent recommendation to the City Council of Mobility Hub locations at the Mayo West Lot for the Northwest location and Graham Park for the Southeast location.\n\n\n\nAaron will discuss the differences between Mobility Hub's and Park and Rides\, the Mobility Hub evaluation criteria and what their methodology was as they came to their final recommendation. There will also be time for questions and answers.\n\n\n\nAfter the presentation is completed there will be a roundtable where leaders from the City of Rochester\, MnDOT and Olmsted County will talk about different important projects.
X-ALT-DESC;FMTTYPE=text/html:Join us for the February Transportation Forum to hear from Deputy City Administrator Aaron Parrish. Aaron will be discussing the recent recommendation to the City Council of Mobility Hub locations at the Mayo West Lot for the Northwest location and Graham Park for the Southeast location.<br />\n<br />\nAaron will discuss the differences between Mobility Hub&#39\;s and Park and Rides\, the Mobility Hub evaluation criteria and what their methodology was as they came to their final recommendation. There will also be time for questions and answers.<br />\n<br />\nAfter the presentation is completed there will be a roundtable where leaders from the City of Rochester\, MnDOT and Olmsted County will talk about different important projects.
LOCATION:Rochester Area Chamber of Commerce Jaguar Communications Video Conference Center 220 South Broadway\, Suite 100
UID:e.1427.1514758
SEQUENCE:3
DTSTAMP:20260425T035425Z
URL:http://business.rochestermnchamber.com/events/details/february-2019-transportation-forum-1514758
END:VEVENT

END:VCALENDAR
