BEGIN:VCALENDAR
VERSION:2.0
PRODID:-//ChamberMaster//Event Calendar 2.0//EN
METHOD:PUBLISH
X-PUBLISHED-TTL:P3D
REFRESH-INTERVAL:P3D
CALSCALE:GREGORIAN
BEGIN:VEVENT
DTSTART:20201022T144500Z
DTEND:20201022T160000Z
X-MICROSOFT-CDO-ALLDAYEVENT:FALSE
SUMMARY:Hospitality 1st!
DESCRIPTION:What is new at RST   Rochester International Airport?\n\nTiana O'Connor\, Marketing and Communications Director\, will share some updates in the new service provided by United Airlines to Denver\, Colorado and new food service options!\n\n\n\nThe Hospitality First Committee is a collaboration of hospitality service providers including transportation\, hotels\, meeting venues\, attractions\, restaurants\, nonprofits\, and other visitor service providers. It is open to all business members in our community. We work in partnership with area businesses\, employees\, and non-traditional service providers to create an exceptional community experience by focusing on great service and delivery of community assets and services. We help to maximize the usage and understanding of community resources through our community partners including the Rochester Sports Group\, the Rochester Area Chamber of Commerce\, and the Experience Rochester Group.  \n\n \n\nThe group meets on the 4th Thursday of each month at 9:45 a.m. hosted by the Rochester Area Chamber of Commerce. Meeting dates are altered for holidays or special events.
X-ALT-DESC;FMTTYPE=text/html:<span style="font-size:14px\;"><strong>What is new at RST &ndash\; Rochester International Airport?</strong><br />\nTiana O&#39\;Connor\, Marketing and Communications Director\, will share some updates in the new service provided by United Airlines to Denver\, Colorado and new food service options!</span><br />\n<br />\n<span style="font-family: arial\; font-size: 13px\; background-color: rgb(255\, 255\, 255)\;">The Hospitality First Committee is a collaboration of hospitality service providers including transportation\, hotels\, meeting venues\, attractions\, restaurants\, nonprofits\, and other visitor service providers. It is open to all business members in our community. We work in partnership with area businesses\, employees\, and non-traditional service providers to create an exceptional community experience by focusing on great service and delivery of community assets and services. We help to maximize the usage and understanding of community resources through our community partners including the Rochester Sports Group\, the Rochester Area Chamber of Commerce\, and the Experience Rochester Group.&nbsp\;&nbsp\;</span><br style="color: rgb(51\, 51\, 51)\; font-family: arial\; font-size: 13px\; background-color: rgb(255\, 255\, 255)\;" />\n<span style="color: rgb(51\, 51\, 51)\; font-family: arial\; font-size: 13px\; background-color: rgb(255\, 255\, 255)\;">&nbsp\;</span><br style="color: rgb(51\, 51\, 51)\; font-family: arial\; font-size: 13px\; background-color: rgb(255\, 255\, 255)\;" />\n<span style="font-family: arial\; font-size: 13px\; background-color: rgb(255\, 255\, 255)\;">The group meets on the 4th Thursday of each month at 9:45 a.m. hosted by the Rochester Area Chamber of Commerce. Meeting dates are altered for holidays or special events.&nbsp\; &nbsp\;</span>
LOCATION:Zoom Meeting: After you register\, you will receive an email confirmation that includes the Zoom conference link. If you do not receive a confirmation\, please email us at chamber@rochestermnchamber.com
UID:e.1427.1514919
SEQUENCE:3
DTSTAMP:20260422T100558Z
URL:http://business.rochestermnchamber.com/events/details/hospitality-1st-1514919
END:VEVENT

END:VCALENDAR
