BEGIN:VCALENDAR
VERSION:2.0
PRODID:-//ChamberMaster//Event Calendar 2.0//EN
METHOD:PUBLISH
X-PUBLISHED-TTL:P3D
REFRESH-INTERVAL:P3D
CALSCALE:GREGORIAN
BEGIN:VEVENT
DTSTART:20201105T170000Z
DTEND:20201105T180000Z
X-MICROSOFT-CDO-ALLDAYEVENT:FALSE
SUMMARY:Hospitality 1st 2021 Programming Planning Meeting
DESCRIPTION:Discussion on Programming for 2021. Andy Thilges will lead the discussion on ideas for Hospitality Sector topics\, speakers\, and ways to grow the group.\n\n\n\nThe Hospitality First Committee is a collaboration of hospitality service providers including transportation\, hotels\, meeting venues\, attractions\, restaurants\, nonprofits\, and other visitor service providers. It is open to all business members in our community. We work in partnership with area businesses\, employees\, and non-traditional service providers to create an exceptional community experience by focusing on great service and delivery of community assets and services. We help to maximize the usage and understanding of community resources through our community partners including the Rochester Sports Group\, the Rochester Area Chamber of Commerce\, and the Experience Rochester Group.  \n\n \n\nThe group meets on the 4th Thursday of each month at 9:45 a.m. Meeting dates are altered for holidays or special events.\n\n\n\nSPECIAL NOTE: November's meeting will be on Thursday\, November 12th due to the Thanksgiving Holiday.
X-ALT-DESC;FMTTYPE=text/html:<span style="font-size:20px\;">Discussion on Programming for 2021. Andy Thilges will lead the discussion on ideas for Hospitality Sector topics\, speakers\, and ways to grow the group.</span><br />\n<br />\n<span style="color: rgb(51\, 51\, 51)\; font-size: 13px\; background-color: rgb(255\, 255\, 255)\; font-family: arial\;">The Hospitality First Committee is a collaboration of hospitality service providers including transportation\, hotels\, meeting venues\, attractions\, restaurants\, nonprofits\, and other visitor service providers. It is open to all business members in our community. We work in partnership with area businesses\, employees\, and non-traditional service providers to create an exceptional community experience by focusing on great service and delivery of community assets and services. We help to maximize the usage and understanding of community resources through our community partners including the Rochester Sports Group\, the Rochester Area Chamber of Commerce\, and the Experience Rochester Group.&nbsp\;&nbsp\;</span><br style="color: rgb(51\, 51\, 51)\; font-size: 13px\; background-color: rgb(255\, 255\, 255)\; font-family: arial\;" />\n<span style="color: rgb(51\, 51\, 51)\; font-size: 13px\; background-color: rgb(255\, 255\, 255)\; font-family: arial\;">&nbsp\;</span><br style="color: rgb(51\, 51\, 51)\; font-size: 13px\; background-color: rgb(255\, 255\, 255)\; font-family: arial\;" />\n<span style="color: rgb(51\, 51\, 51)\; font-size: 13px\; background-color: rgb(255\, 255\, 255)\; font-family: arial\;">The group meets on the 4th Thursday of each month at 9:45 a.m. Meeting dates are altered for holidays or special events.<br />\n<br />\n<span style="font-size:14px\;"><strong>SPECIAL NOTE</strong>:&nbsp\;<strong>November&#39\;s meeting will be on Thursday\, November 12th due to the Thanksgiving Holiday.</strong></span></span>
LOCATION:Virtual Zoom Meeting NOTE: Zoom information will be sent in the automatic registration confirmation email.
UID:e.1427.1514978
SEQUENCE:3
DTSTAMP:20260422T081726Z
URL:http://business.rochestermnchamber.com/events/details/hospitality-1st-2021-programming-planning-meeting-1514978
END:VEVENT

END:VCALENDAR
