BEGIN:VCALENDAR
VERSION:2.0
PRODID:-//ChamberMaster//Event Calendar 2.0//EN
METHOD:PUBLISH
X-PUBLISHED-TTL:P3D
REFRESH-INTERVAL:P3D
CALSCALE:GREGORIAN
BEGIN:VEVENT
DTSTART:20220324T144500Z
DTEND:20220324T160000Z
X-MICROSOFT-CDO-ALLDAYEVENT:FALSE
SUMMARY:Hospitality 1st Roundtable
DESCRIPTION:Mayo Clinic's GIM International Services - Client Experience\n\nFeatured Speakers: \n\nXiuhua Rao: Operations Supervisor at the GIM - International Center\n\nZina Jadooa: International Patient Coordinator\, International Center\n\nErin Pagel: Operations Administrator for General International Medicine and Instructor in Healthcare Administration\n\n\n\nSmall Business Spotlight:\n\nKaren Fairbairn Nath\, Executive Director of Legal Assistance of Olmsted County\n\n\n\nPlease note: The Mayo Civic Center no longer requires masks. They are optional\, and the Chamber will still have some available\, if needed.\n\n\n\nThe Hospitality 1st Roundtable is a collaboration of hospitality service providers including transportation\, hotels\, meeting venues\, attractions\, restaurants\, nonprofits\, and other visitor service providers. It is open to all business members in our community. We work in partnership with area businesses\, employees\, and non-traditional service providers to create an exceptional community experience by focusing on great service and delivery of community assets and services. We help to maximize the usage and understanding of community resources through our community partners including the Rochester Sports Group\, the Rochester Area Chamber of Commerce\, and Experience Rochester MN. \n\n \n\nThe group meets on the 4th Thursday of each month at 9:45 a.m. Meeting dates are altered for holidays or special events.   \n\n\n\nLeadership in Hospitality 1st:\n\nIf you would like to serve on a committee to help plan Hospitality 1st Roundtables\, programming\, and content\, please email Chair Andy Thilges at andy.thilges@nrhotels.com. We need your input!
X-ALT-DESC;FMTTYPE=text/html:<span style="font-size:20px\;"><span style="font-size:28px\;"><strong style="color: rgb(51\, 51\, 51)\; font-family: sans-serif\, Arial\, Verdana\, &quot\;Trebuchet MS&quot\;\; font-size: 20px\; background-color: rgb(255\, 255\, 255)\;">Mayo Clinic&#39\;s GIM International Services - Client Experience</strong></span><br />\n<strong>Featured Speakers:&nbsp\;<br />\nXiuhua Rao: </strong>Operations Supervisor at the GIM - International Center<br />\n<strong>Zina Jadooa: </strong>International Patient Coordinator\, International Center<br />\n<strong>Erin Pagel: </strong>Operations Administrator for General International Medicine and Instructor in Healthcare Administration<br />\n<br />\n<strong><span style="font-size:18px\;">Small Business Spotlight:<br />\nKaren Fairbairn Nath\, </span></strong><span style="font-size:18px\;">Executive Director of Legal Assistance of Olmsted County</span></span><br />\n<br />\nPlease note: The Mayo Civic Center no longer requires masks. They are optional\, and the Chamber will still have some available\, if needed.<br style="color: rgb(51\, 51\, 51)\; font-family: sans-serif\, Arial\, Verdana\, &quot\;Trebuchet MS&quot\;\; font-size: 13px\;" />\n<br style="color: rgb(51\, 51\, 51)\; font-family: sans-serif\, Arial\, Verdana\, &quot\;Trebuchet MS&quot\;\; font-size: 13px\;" />\n<span style="color: rgb(51\, 51\, 51)\; font-size: 13px\; background-color: rgb(255\, 255\, 255)\; font-family: arial\;">The Hospitality 1st Roundtable is a collaboration of hospitality service providers including transportation\, hotels\, meeting venues\, attractions\, restaurants\, nonprofits\, and other visitor service providers. It is open to all business members in our community. We work in partnership with area businesses\, employees\, and non-traditional service providers to create an exceptional community experience by focusing on great service and delivery of community assets and services. We help to maximize the usage and understanding of community resources through our community partners including the Rochester Sports Group\, the Rochester Area Chamber of Commerce\, and Experience Rochester MN.&nbsp\;</span><br style="color: rgb(51\, 51\, 51)\; font-size: 13px\; background-color: rgb(255\, 255\, 255)\; font-family: arial\;" />\n<span style="color: rgb(51\, 51\, 51)\; font-size: 13px\; background-color: rgb(255\, 255\, 255)\; font-family: arial\;">&nbsp\;</span><br style="color: rgb(51\, 51\, 51)\; font-size: 13px\; background-color: rgb(255\, 255\, 255)\; font-family: arial\;" />\n<span style="color: rgb(51\, 51\, 51)\; font-size: 13px\; background-color: rgb(255\, 255\, 255)\; font-family: arial\;">The group meets on the 4th Thursday of each month at 9:45 a.m. Meeting dates are altered for holidays or special events.&nbsp\; &nbsp\;<br />\n<br />\n<span style="font-family: verdana\;"><span style="font-size: 20px\;"><u>Leadership in Hospitality 1st:</u><br />\n<span style="font-size: 18px\;">If you would like to serve on a committee to help plan Hospitality 1st Roundtables\, programming\, and content\, please email Chair Andy Thilges at&nbsp\;</span></span></span></span><span style="color: rgb(51\, 51\, 51)\; font-family: sans-serif\, Arial\, Verdana\, &quot\;Trebuchet MS&quot\;\; font-size: 18px\;"><span style="font-family: verdana\;">andy.thilges@nrhotels.com</span></span><span style="color: rgb(51\, 51\, 51)\; font-size: 13px\; background-color: rgb(255\, 255\, 255)\; font-family: arial\;"><span style="font-family: verdana\;"><span style="font-size: 20px\;"><span style="font-size: 18px\;">. We need your input!</span></span></span></span>
LOCATION:In Person: Mayo Civic Center Enter Though the Skyway Only 1st Floor | Suites 110 & 111 Across from Suites 104 & 105 30 Civic Center Dr SE Rochester\, MN 55904 Guidelines will be sent in the automatic registration email. Masks are optional or Virtually: Virtual Zoom Meeting NOTE: Zoom information will be sent in the automatic registration confirmation email.
UID:e.1427.1515259
SEQUENCE:3
DTSTAMP:20260420T023001Z
URL:http://business.rochestermnchamber.com/events/details/hospitality-1st-roundtable-03-24-2022-1515259
END:VEVENT

END:VCALENDAR
