BEGIN:VCALENDAR
VERSION:2.0
PRODID:-//ChamberMaster//Event Calendar 2.0//EN
METHOD:PUBLISH
X-PUBLISHED-TTL:P3D
REFRESH-INTERVAL:P3D
CALSCALE:GREGORIAN
BEGIN:VEVENT
DTSTART:20220623T144500Z
DTEND:20220623T160000Z
X-MICROSOFT-CDO-ALLDAYEVENT:FALSE
SUMMARY:Hospitality 1st Roundtable
DESCRIPTION:*Hospitality 1st Roundtable is intended for the Hospitality\, Retail\, Entertainment\, Transportation\, and Restaurant Sectors. \n\n\n\n"Where to Find Workers"\n\nMN DEED | Career Force - Jessica O'Brien\, Workforce Strategy Consultant\, Southeast MN \n\nMN DEED - Mark Schultz\, Regional Labor Market Analyst\, Southeast & Central MN\n\nWorkforce Development\, Inc - Stacy Brumfield\, Trades Program Coordinator & Diversity\, Equity\, & Inclusion Coordinator\n\nSoutheast Service Cooperative - Mike Schnell\, Community Engagement Coordinator\nCome with your human resources personal and learn how to take advantage of over a dozen programs and services available from\; DEED\, Career Force\, WDI\, and Southeast Service Cooperative for employers to find staff.\n\nReceive tips on creative recruiting strategies\, and the links and contacts for you to help your organization with your staffing needs.\n\n\n\nSmall Business Speaker: Clavonne Holter\, President of Heartland Tours & Travel\n\nClavonne Holter is President of Heartland Tours and Travel. She has been a support for the transportation business Rochester City Lines in Rochester\, MN. She is Treasurer of Busboys Collection\, a 501(C) 3 nonprofit dedicated to preservation of historic buses\, keeping history alive for generations to come. Through her business Drive to Health she has been a vendor and advocate for health and wellness at numerous industry annual conferences. She was instrumental in the research and implementation of innovative technologies into vehicles and facilities. One of her values is compassionate concern for the wellbeing of all people. She is also an accomplished musician.\n\n \n\n \nPlease note: The Mayo Civic Center no longer requires masks. They are optional\, and the Chamber will still have some available\, if needed.\n\nPLEASE enter via the 2nd Floor Skyway ONLY. We don't want to disrupt the Tradeshow at the Mayo Civic Center.\n\n\n\n\n\nThe Hospitality 1st Roundtable is a collaboration of hospitality service providers including transportation\, hotels\, meeting venues\, attractions\, restaurants\, nonprofits\, and other visitor service providers. It is open to all business members in our community. We work in partnership with area businesses\, employees\, and non-traditional service providers to create an exceptional community experience by focusing on great service and delivery of community assets and services. We help to maximize the usage and understanding of community resources through our community partners including the Rochester MN Sports\, the Rochester Area Chamber of Commerce\, and Experience Rochester MN. \n\n \n\nThe group meets on the 4th Thursday of every other month at 9:45 a.m. Meeting dates are altered for holidays or special events.   \n\n\n\nLeadership in Hospitality 1st:\n\nIf you would like to serve on a committee to help plan Hospitality 1st Roundtables\, programming\, and content\, please email Chair Andy Thilges at andy.thilges@nrhotels.com. We need your input!
X-ALT-DESC;FMTTYPE=text/html:<span style="font-size:11px\;"><strong style="color: rgb(51\, 51\, 51)\; font-family: sans-serif\, Arial\, Verdana\, &quot\;Trebuchet MS&quot\;\; font-size: 16px\; background-color: rgb(255\, 255\, 255)\;">*Hospitality 1st Roundtable is intended for the Hospitality\, Retail\, Entertainment\, Transportation\, and Restaurant Sectors.&nbsp\;</strong></span><br />\n<br />\n<span style="font-size:26px\;"><u><strong><span style="font-size:28px\;">&quot\;Where to Find Workers&quot\;</span></strong></u><br />\n<strong><span style="font-size:24px\;">MN DEED | Career Force - </span></strong><span style="font-size:24px\;">Jessica O&#39\;Brien\, Workforce Strategy Consultant\, Southeast MN&nbsp\;</span><br />\n<span style="font-size:24px\;"><strong>MN DEED -</strong> Mark Schultz\, Regional Labor Market Analyst\, Southeast &amp\; Central MN<br />\n<strong>Workforce Development\, Inc -</strong> Stacy Brumfield\, Trades Program Coordinator &amp\; Diversity\, Equity\, &amp\; Inclusion Coordinator<br />\n<strong>Southeast Service Cooperative -&nbsp\;</strong>Mike Schnell\, Community Engagement Coordinator</span></span>\n<p dir="ltr" style="line-height:1.38\;margin-top:12pt\;margin-bottom:12pt\;"><span style="font-size:20px\;"><span id="docs-internal-guid-3d43cf51-7fff-1a0e-f543-c97f2050c2af"><span style="font-family: Arial\; font-variant-numeric: normal\; font-variant-east-asian: normal\; vertical-align: baseline\; white-space: pre-wrap\;">Come with your human resources personal and learn how to </span><span style="font-family: Arial\; font-variant-numeric: normal\; font-variant-east-asian: normal\; text-decoration-line: underline\; text-decoration-skip-ink: none\; vertical-align: baseline\; white-space: pre-wrap\;">take advantage</span><span style="font-family: Arial\; font-variant-numeric: normal\; font-variant-east-asian: normal\; vertical-align: baseline\; white-space: pre-wrap\;"> of over a dozen programs and services available from\; DEED\, Career Force\, WDI\, and Southeast Service Cooperative for employers to find staff.</span></span></span></p>\n\n<p dir="ltr" style="line-height:1.38\;margin-top:12pt\;margin-bottom:12pt\;"><span style="font-size:20px\;"><span id="docs-internal-guid-3d43cf51-7fff-1a0e-f543-c97f2050c2af"><span style="font-family: Arial\; font-variant-numeric: normal\; font-variant-east-asian: normal\; vertical-align: baseline\; white-space: pre-wrap\;">Receive tips on creative recruiting strategies\, and the links and contacts for you </span><span style="font-family: Arial\; font-variant-numeric: normal\; font-variant-east-asian: normal\; vertical-align: baseline\; white-space: pre-wrap\;">to help your organization with your staffing needs.<br />\n<br />\n<span style="font-size:16px\;"><strong>Small Business Speaker:</strong> Clavonne Holter\, President of Heartland Tours &amp\; Travel</span></span></span></span><br />\n<span style="font-size:16px\;">Clavonne Holter is President of Heartland Tours and Travel. She has been a support for the transportation business Rochester City Lines in Rochester\, MN. She is Treasurer of Busboys Collection\, a 501(C) 3 nonprofit dedicated to preservation of historic buses\, keeping history alive for generations to come. Through her business Drive to Health she has been a vendor and advocate for health and wellness at numerous industry annual conferences. She was instrumental in the research and implementation of innovative technologies into vehicles and facilities. One of her values is compassionate concern for the wellbeing of all people. She is also an accomplished musician.</span><br />\n&nbsp\;</p>\n\n<div>&nbsp\;</div>\n<span style="font-size:14px\;"><span style="color: rgb(51\, 51\, 51)\; font-family: sans-serif\, Arial\, Verdana\, &quot\;Trebuchet MS&quot\;\; background-color: rgb(255\, 255\, 255)\;">Please note: The Mayo Civic Center no longer requires masks. They are optional\, and the Chamber will still have some available\, if needed.<br />\n<span style="font-size:16px\;"><strong>PLEASE enter via the 2nd Floor Skyway ONLY. We don&#39\;t want to disrupt the Tradeshow at the Mayo Civic Center.</strong></span></span></span><br />\n<br style="color: rgb(51\, 51\, 51)\; font-family: sans-serif\, Arial\, Verdana\, &quot\;Trebuchet MS&quot\;\; font-size: 13px\;" />\n<br style="color: rgb(51\, 51\, 51)\; font-family: sans-serif\, Arial\, Verdana\, &quot\;Trebuchet MS&quot\;\; font-size: 13px\;" />\n<span style="color: rgb(51\, 51\, 51)\; font-size: 13px\; background-color: rgb(255\, 255\, 255)\; font-family: arial\;">The Hospitality 1st Roundtable is a collaboration of hospitality service providers including transportation\, hotels\, meeting venues\, attractions\, restaurants\, nonprofits\, and other visitor service providers. It is open to all business members in our community. We work in partnership with area businesses\, employees\, and non-traditional service providers to create an exceptional community experience by focusing on great service and delivery of community assets and services. We help to maximize the usage and understanding of community resources through our community partners including the Rochester MN Sports\, the Rochester Area Chamber of Commerce\, and Experience Rochester MN.&nbsp\;</span><br style="color: rgb(51\, 51\, 51)\; font-size: 13px\; background-color: rgb(255\, 255\, 255)\; font-family: arial\;" />\n<span style="color: rgb(51\, 51\, 51)\; font-size: 13px\; background-color: rgb(255\, 255\, 255)\; font-family: arial\;">&nbsp\;</span><br style="color: rgb(51\, 51\, 51)\; font-size: 13px\; background-color: rgb(255\, 255\, 255)\; font-family: arial\;" />\n<span style="color: rgb(51\, 51\, 51)\; font-size: 13px\; background-color: rgb(255\, 255\, 255)\; font-family: arial\;">The group meets on the 4th Thursday of every other month at 9:45 a.m. Meeting dates are altered for holidays or special events.&nbsp\; &nbsp\;<br />\n<br />\n<span style="font-family: verdana\;"><span style="font-size: 20px\;"><u>Leadership in Hospitality 1st:</u><br />\n<span style="font-size: 18px\;">If you would like to serve on a committee to help plan Hospitality 1st Roundtables\, programming\, and content\, please email Chair Andy Thilges at&nbsp\;</span></span></span></span><span style="color: rgb(51\, 51\, 51)\; font-family: sans-serif\, Arial\, Verdana\, &quot\;Trebuchet MS&quot\;\; font-size: 18px\;"><span style="font-family: verdana\;">andy.thilges@nrhotels.com</span></span><span style="color: rgb(51\, 51\, 51)\; font-size: 13px\; background-color: rgb(255\, 255\, 255)\; font-family: arial\;"><span style="font-family: verdana\;"><span style="font-size: 20px\;"><span style="font-size: 18px\;">. We need your input!</span></span></span></span>
LOCATION:ATTENTION: This will be our last Hybrid Meeting. Hospitality 1st Roundtable is moving to be IN PERSON ONLY on the 4th Thursday of every other month. In Person: Mayo Civic Center - Skyway Entrance 2nd Floor | American Legion Room 30 Civic Center Dr SE Rochester\, MN 55904 Enter via Skyway Entrance ONLY Guidelines will be sent in the automatic registration email. Masks are optional or Virtually: Virtual Zoom Meeting NOTE: Zoom information will be sent in the automatic registration confirmation email.
UID:e.1427.1515262
SEQUENCE:3
DTSTAMP:20260424T110641Z
URL:http://business.rochestermnchamber.com/events/details/hospitality-1st-roundtable-06-23-2022-1515262
END:VEVENT

END:VCALENDAR
