BEGIN:VCALENDAR
VERSION:2.0
PRODID:-//ChamberMaster//Event Calendar 2.0//EN
METHOD:PUBLISH
X-PUBLISHED-TTL:P3D
REFRESH-INTERVAL:P3D
CALSCALE:GREGORIAN
BEGIN:VEVENT
DTSTART:20220517T213000Z
DTEND:20220517T233000Z
X-MICROSOFT-CDO-ALLDAYEVENT:FALSE
SUMMARY:Leadership Greater Rochester Graduation
DESCRIPTION:Leadership Greater Rochester is the Chamber's premier leadership development program. Since 1987\, this program has propelled leaders in the community to further be inspired\, connected and enlightened. The 950 alumni who have graduated from LGR have gone on to serve in various civic\, community\, and business leadership positions. We are excited to celebrate the LGR graduating 2021-2022 class!
X-ALT-DESC;FMTTYPE=text/html:<span style="font-family: Montserrat\, sans-serif\; font-size: 16px\;">Leadership Greater Rochester is the Chamber&#39\;s premier leadership development program. Since 1987\, this program has propelled leaders in the community to further be inspired\, connected and enlightened. The 950 alumni who have graduated from LGR have gone on to serve in various civic\, community\, and business leadership positions. We are excited to celebrate the LGR graduating 2021-2022 class!&nbsp\;</span>
LOCATION:
UID:e.1427.1515332
SEQUENCE:3
DTSTAMP:20260419T225252Z
URL:http://business.rochestermnchamber.com/events/details/leadership-greater-rochester-graduation-1515332
END:VEVENT

END:VCALENDAR
