BEGIN:VCALENDAR
VERSION:2.0
PRODID:-//ChamberMaster//Event Calendar 2.0//EN
METHOD:PUBLISH
X-PUBLISHED-TTL:P3D
REFRESH-INTERVAL:P3D
CALSCALE:GREGORIAN
BEGIN:VEVENT
DTSTART:20220426T163000Z
DTEND:20220426T180000Z
X-MICROSOFT-CDO-ALLDAYEVENT:FALSE
SUMMARY:Local Government Connect
DESCRIPTION:As Rochester continues to grow and evolve\, you won't want to miss out on your chance to hear directly from our local government representatives and administrators on their 2022 initiatives\, programs\, and priorities during Local Government Connect! This timely event will feature representatives from the City\, the County\, the Parks Department\, and the Public Schools giving brief updates and answering questions on issues impacting our local business community. \n\n \nAgenda: \n\n11:30 am - Welcome\, Rochester Area Chamber\n\n11:35 - 11:50am - Olmsted County Update \n\n\n	Olmsted County Commissioner Mark Thein\, Seventh District\n	Olmsted County Administrator Heidi Welsch\n\n\n11:50 am   12:05 pm- City of Rochester Update\n\n\n	Council President Brooke Carlson \n	Rochester City Administrator Alison Zelms\n\n\n12:05   12:20 pm - City of Rochester Parks Department Update\n\n\n	Director of Parks and Recreation Paul Widman\n\n\n12:20   12:35 pm - Rochester Public Schools\n\n\n	Rochester Public Schools Chair Dr. Jean Marvin\n	Rochester Public Schools Superintendent Dr. Kent Pekel\n\n\n 12:35   1 pm - Q&A
X-ALT-DESC;FMTTYPE=text/html:<span style="color: rgb(0\, 0\, 0)\;">As Rochester continues to grow and evolve\, you won&#39\;t want to miss out on your chance to hear directly from our local government representatives and administrators on their 2022 initiatives\, programs\, and priorities during&nbsp\;<strong>Local Government Connect!&nbsp\;</strong>This timely event will feature representatives from the City\, the County\, the Parks Department\, and the Public Schools giving brief updates and answering questions on issues impacting our local business community.&nbsp\;</span><br />\n&nbsp\;\n<div style="color: rgb(64\, 63\, 66)\; font-family: Arial\, Verdana\, Helvetica\, sans-serif\; font-size: 14px\; white-space: pre-wrap\;"><span style="font-size: 16px\; color: rgb(0\, 0\, 0)\;"><strong>Agenda: </strong></span></div>\n\n<div style="color: rgb(64\, 63\, 66)\; font-family: Arial\, Verdana\, Helvetica\, sans-serif\; font-size: 14px\; white-space: pre-wrap\;"><span style="font-size: 16px\; color: rgb(0\, 0\, 0)\;">11:30 am - Welcome\, Rochester Area Chamber</span></div>\n\n<div style="color: rgb(64\, 63\, 66)\; font-family: Arial\, Verdana\, Helvetica\, sans-serif\; font-size: 14px\; white-space: pre-wrap\;"><span style="font-size: 16px\; color: rgb(0\, 0\, 0)\;">11:35&nbsp\;- 11:50am - Olmsted County Update&nbsp\;</span></div>\n\n<ul style="padding-right: 0px\; padding-left: 0px\; margin: 0px 0px 0px 40px\; color: rgb(64\, 63\, 66)\; font-family: Arial\, Verdana\, Helvetica\, sans-serif\; font-size: 14px\; white-space: pre-wrap\;">\n	<li style="padding: 0px\; margin: 0px\; line-height: 1.2\; font-size: 16px\; color: rgb(0\, 0\, 0)\;"><span style="font-style: italic\;">Olmsted County Commissioner Mark Thein\, Seventh District</span></li>\n	<li style="padding: 0px\; margin: 0px\; line-height: 1.2\; font-size: 16px\; color: rgb(0\, 0\, 0)\;"><span style="font-style: italic\;">Olmsted County Administrator Heidi Welsch</span></li>\n</ul>\n\n<div style="color: rgb(64\, 63\, 66)\; font-family: Arial\, Verdana\, Helvetica\, sans-serif\; font-size: 14px\; white-space: pre-wrap\;"><span style="font-size: 16px\; color: rgb(0\, 0\, 0)\;">11:50 am &ndash\; 12:05 pm- City of Rochester Update</span></div>\n\n<ul style="padding-right: 0px\; padding-left: 0px\; margin: 0px 0px 0px 40px\; color: rgb(64\, 63\, 66)\; font-family: Arial\, Verdana\, Helvetica\, sans-serif\; font-size: 14px\; white-space: pre-wrap\;">\n	<li style="padding: 0px\; margin: 0px\; line-height: 1.2\; font-size: 16px\; color: rgb(0\, 0\, 0)\;"><span style="font-style: italic\;">Council President Brooke Carlson</span><span style="font-style: italic\;"> </span></li>\n	<li style="padding: 0px\; margin: 0px\; line-height: 1.2\; font-size: 16px\; color: rgb(0\, 0\, 0)\;"><span style="font-style: italic\;">Rochester City Administrator Alison Zelms</span></li>\n</ul>\n\n<div style="color: rgb(64\, 63\, 66)\; font-family: Arial\, Verdana\, Helvetica\, sans-serif\; font-size: 14px\; white-space: pre-wrap\;"><span style="font-size: 16px\; color: rgb(0\, 0\, 0)\;">12:05 &ndash\; 12:20 pm - City of Rochester Parks Department Update</span></div>\n\n<ul style="padding-right: 0px\; padding-left: 0px\; margin: 0px 0px 0px 40px\; color: rgb(64\, 63\, 66)\; font-family: Arial\, Verdana\, Helvetica\, sans-serif\; font-size: 14px\; white-space: pre-wrap\;">\n	<li style="padding: 0px\; margin: 0px\; line-height: 1.2\; font-size: 16px\; color: rgb(0\, 0\, 0)\;"><span style="font-style: italic\;">Director of Parks and Recreation Paul Widman</span></li>\n</ul>\n\n<div style="color: rgb(64\, 63\, 66)\; font-family: Arial\, Verdana\, Helvetica\, sans-serif\; font-size: 14px\; white-space: pre-wrap\;"><span style="font-size: 16px\; color: rgb(0\, 0\, 0)\;">12:20 &ndash\; 12:35 pm - Rochester Public Schools</span></div>\n\n<ul style="padding-right: 0px\; padding-left: 0px\; margin: 0px 0px 0px 40px\; color: rgb(64\, 63\, 66)\; font-family: Arial\, Verdana\, Helvetica\, sans-serif\; font-size: 14px\; white-space: pre-wrap\;">\n	<li style="padding: 0px\; margin: 0px\; line-height: 1.2\; font-size: 16px\; color: rgb(0\, 0\, 0)\;"><span style="font-style: italic\;">Rochester Public Schools Chair Dr. Jean Marvin</span></li>\n	<li style="padding: 0px\; margin: 0px\; line-height: 1.2\; font-size: 16px\; color: rgb(0\, 0\, 0)\;"><span style="font-style: italic\;">Rochester Public Schools Superintendent Dr. Kent Pekel</span></li>\n</ul>\n\n<div style="color: rgb(64\, 63\, 66)\; font-family: Arial\, Verdana\, Helvetica\, sans-serif\; font-size: 14px\; white-space: pre-wrap\;"><span new="" style="font-size: 9px\; color: rgb(0\, 0\, 0)\; font-family: Georgia\, " times="">&nbsp\;</span><span style="font-size: 16px\; color: rgb(0\, 0\, 0)\;">12:35 &ndash\; 1 pm - Q&amp\;A</span></div>\n
LOCATION:The Hilton Rochester Mayo Clinic Area 10 E Center St. Rochester\, MN 55904
UID:e.1427.1515324
SEQUENCE:3
DTSTAMP:20260420T000056Z
URL:http://business.rochestermnchamber.com/events/details/local-government-connect-1515324
END:VEVENT

END:VCALENDAR
