BEGIN:VCALENDAR
VERSION:2.0
PRODID:-//ChamberMaster//Event Calendar 2.0//EN
METHOD:PUBLISH
X-PUBLISHED-TTL:P3D
REFRESH-INTERVAL:P3D
CALSCALE:GREGORIAN
BEGIN:VEVENT
DTSTART:20200717T000000Z
DTEND:20200717T013000Z
X-MICROSOFT-CDO-ALLDAYEVENT:FALSE
SUMMARY:LWV Candidate Forums: City Council President
DESCRIPTION:As in years past\, the Chamber will be partnering with the League of Women Voters\, the Post Bulletin\, and the Rochester Public Library to host Candidate Forums for the pre-primary and general election. This partnership is in alignment with the Chamber's longstanding tradition of encouraging civic engagement. \n\n\n\n*In the interest of full transparency\, the Chamber will not be asking questions at this debate\, nor sharing questions ahead of time with any of the above candidates      \n\n\n\nTo prevent the spread of Coronovirus\, the forums will not be open to the public. The forums will be live streamed on the Rochester Public Library's website and also available for later viewing the same way. Questions for the candidates may be pre-submitted (no later than 48 hours prior to the forum) by e-mailing them to LWVRochester@LWV.org\n\n\n\nCity Council President Candidates:\n\n	Brooke Carlson\n	Kathleen Harrington\n	Vangie Castro
X-ALT-DESC;FMTTYPE=text/html:<span style="color: rgb(29\, 33\, 41)\; font-family: arial\; font-size: 14px\;">As in years past\, the Chamber will be partnering with the League of Women Voters\, the Post Bulletin\, and the Rochester Public Library to host Candidate Forums for the pre-primary and general election. This partnership is in alignment with the Chamber&rsquo\;s longstanding tradition of encouraging civic engagement.&nbsp\;</span><br />\n<br />\n<span style="font-family:arial\;"><strong><span style="color:#C00000\;"><span style="font-size:10.0pt\;">*In the interest of full transparency\, the Chamber will not be asking questions at this debate\, nor sharing questions ahead of time with any of the above candidates&nbsp\; &nbsp\; &nbsp\;&nbsp\;</span></span></strong></span><br />\n<br />\n<span style="font-size:14px\;"><span style="font-family:arial\;"><span style="color: rgb(96\, 96\, 96)\;">To prevent the spread of Coronovirus\, the forums will not be open to the public. The forums will be live streamed on the Rochester Public Library&rsquo\;s website and also available for later viewing the same way. Questions for the candidates may be pre-submitted (no later than 48 hours prior to the forum) by e-mailing them to LWVRochester@LWV.org</span></span></span><br />\n<br />\nCity Council President Candidates:\n<ul>\n	<li>Brooke Carlson</li>\n	<li>Kathleen Harrington</li>\n	<li>Vangie Castro</li>\n</ul>\n
LOCATION:Stream the Candidate Forums Live: https://rochesterpubliclibrary.librarymarket.com/events/upcoming
UID:e.1427.1514963
SEQUENCE:3
DTSTAMP:20260423T021308Z
URL:http://business.rochestermnchamber.com/events/details/lwv-candidate-forums-city-council-president-1514963
END:VEVENT

END:VCALENDAR
