BEGIN:VCALENDAR
VERSION:2.0
PRODID:-//ChamberMaster//Event Calendar 2.0//EN
METHOD:PUBLISH
X-PUBLISHED-TTL:P3D
REFRESH-INTERVAL:P3D
CALSCALE:GREGORIAN
BEGIN:VEVENT
DTSTART:20200723T000000Z
DTEND:20200723T013000Z
X-MICROSOFT-CDO-ALLDAYEVENT:FALSE
SUMMARY:LWV Candidate Forums: Rochester City Council Ward 4
DESCRIPTION:As in years past\, the Chamber will be partnering with the League of Women Voters\, the Post Bulletin\, and the Rochester Public Library to host Candidate Forums for the pre-primary and general election. This partnership is in alignment with the Chamber's longstanding tradition of encouraging civic engagement. \n\n\n\nTo prevent the spread of Coronovirus\, the forums will not be open to the public. The forums will be live streamed on the Rochester Public Library's website and also available for later viewing the same way. Questions for the candidates may be pre-submitted (no later than 48 hours prior to the forum) by e-mailing them to LWVRochester@LWV.org\n\n\n\nWard 4 Candidates:\n\n	Abel Brito\n	PJ Calkins\n	Kelly Rae Kirkpatrick\n	Katrina Pulham
X-ALT-DESC;FMTTYPE=text/html:<span style="color: rgb(29\, 33\, 41)\; font-family: arial\; font-size: 14px\;">As in years past\, the Chamber will be partnering with the League of Women Voters\, the Post Bulletin\, and the Rochester Public Library to host Candidate Forums for the pre-primary and general election. This partnership is in alignment with the Chamber&rsquo\;s longstanding tradition of encouraging civic engagement.&nbsp\;</span><br />\n<br />\n<span style="font-size:14px\;"><span style="font-family:arial\;"><span style="color: rgb(96\, 96\, 96)\;">To prevent the spread of Coronovirus\, the forums will not be open to the public. The forums will be live streamed on the Rochester Public Library&rsquo\;s website and also available for later viewing the same way. Questions for the candidates may be pre-submitted (no later than 48 hours prior to the forum) by e-mailing them to LWVRochester@LWV.org</span></span></span><br />\n<br />\nWard 4 Candidates:\n<ul>\n	<li>Abel Brito</li>\n	<li>PJ Calkins</li>\n	<li>Kelly Rae Kirkpatrick</li>\n	<li>Katrina Pulham</li>\n</ul>\n
LOCATION:Stream the Candidate Forums Live: https://rochesterpubliclibrary.librarymarket.com/events/upcoming
UID:e.1427.1514966
SEQUENCE:3
DTSTAMP:20260423T033714Z
URL:http://business.rochestermnchamber.com/events/details/lwv-candidate-forums-rochester-city-council-ward-4-1514966
END:VEVENT

END:VCALENDAR
