BEGIN:VCALENDAR
VERSION:2.0
PRODID:-//ChamberMaster//Event Calendar 2.0//EN
METHOD:PUBLISH
X-PUBLISHED-TTL:P3D
REFRESH-INTERVAL:P3D
CALSCALE:GREGORIAN
BEGIN:VEVENT
DTSTART:20200724T000000Z
DTEND:20200724T013000Z
X-MICROSOFT-CDO-ALLDAYEVENT:FALSE
SUMMARY:LWV Candidate Forums: Rochester City Council Ward 6
DESCRIPTION:As in years past\, the Chamber will be partnering with the League of Women Voters\, the Post Bulletin\, and the Rochester Public Library to host Candidate Forums for the pre-primary and general election. This partnership is in alignment with the Chamber's longstanding tradition of encouraging civic engagement. \n\nTo prevent the spread of Coronovirus\, the forums will not be open to the public. The forums will be live streamed on the Rochester Public Library's website and also available for later viewing the same way. Questions for the candidates may be pre-submitted (no later than 48 hours prior to the forum) by e-mailing them to LWVRochester@LWV.org\n\n\n\nWard 6 Candidates:\n\n	Donovan Bailey\n	Molly Dennis\n	David Diercks\n	Todd Pisarski\n	Thomas Rigby\n	Craig Ugland
X-ALT-DESC;FMTTYPE=text/html:<span style="color: rgb(29\, 33\, 41)\; font-family: arial\; font-size: 14px\;">As in years past\, the Chamber will be partnering with the League of Women Voters\, the Post Bulletin\, and the Rochester Public Library to host Candidate Forums for the pre-primary and general election. This partnership is in alignment with the Chamber&rsquo\;s longstanding tradition of encouraging civic engagement.&nbsp\;</span><br />\n<span style="font-family:arial\;"><span style="font-size:14px\;"><span style="color: rgb(96\, 96\, 96)\;">To prevent the spread of Coronovirus\, the forums will not be open to the public. The forums will be live streamed on the Rochester Public Library&rsquo\;s website and also available for later viewing the same way. Questions for the candidates may be pre-submitted (no later than 48 hours prior to the forum) by e-mailing them to LWVRochester@LWV.org</span></span></span><br />\n<br />\nWard 6 Candidates:\n<ul>\n	<li>Donovan Bailey</li>\n	<li>Molly Dennis</li>\n	<li>David Diercks</li>\n	<li>Todd Pisarski</li>\n	<li>Thomas Rigby</li>\n	<li>Craig Ugland</li>\n</ul>\n
LOCATION:Stream the Candidate Forums Live: https://rochesterpubliclibrary.librarymarket.com/events/upcoming
UID:e.1427.1514967
SEQUENCE:3
DTSTAMP:20260423T034505Z
URL:http://business.rochestermnchamber.com/events/details/lwv-candidate-forums-rochester-city-council-ward-6-1514967
END:VEVENT

END:VCALENDAR
