BEGIN:VCALENDAR
VERSION:2.0
PRODID:-//ChamberMaster//Event Calendar 2.0//EN
METHOD:PUBLISH
X-PUBLISHED-TTL:P3D
REFRESH-INTERVAL:P3D
CALSCALE:GREGORIAN
BEGIN:VEVENT
DTSTART:20190611T210000Z
DTEND:20190611T230000Z
X-MICROSOFT-CDO-ALLDAYEVENT:FALSE
SUMMARY:New Location Open House for Fernbrook Family Center
DESCRIPTION:Fernbrook Family Center will be having an open house to celebrate their new location on Tuesday June 11th. The event will also be accompanied by a ribbon cutting.
X-ALT-DESC;FMTTYPE=text/html:Fernbrook Family Center will be having an open house to celebrate their new location on Tuesday June 11th. The event will also be accompanied by a ribbon cutting.&nbsp\;&nbsp\;&nbsp\;&nbsp\;&nbsp\;&nbsp\;&nbsp\;&nbsp\;
LOCATION:2519 Commerce Dr.\, Suite 210 Rochester\, MN 55901
UID:e.1427.1514776
SEQUENCE:3
DTSTAMP:20260424T182344Z
URL:http://business.rochestermnchamber.com/events/details/new-location-open-house-for-fernbrook-family-center-1514776
END:VEVENT

END:VCALENDAR
