BEGIN:VCALENDAR
VERSION:2.0
PRODID:-//ChamberMaster//Event Calendar 2.0//EN
METHOD:PUBLISH
X-PUBLISHED-TTL:P3D
REFRESH-INTERVAL:P3D
CALSCALE:GREGORIAN
BEGIN:VEVENT
DTSTART:20200729T200000Z
DTEND:20200729T210000Z
X-MICROSOFT-CDO-ALLDAYEVENT:FALSE
SUMMARY:Path Forward - Masking: Tips and Tools to Promote Public Health\, Compliance and Ensure Customer Safety
DESCRIPTION:This webinar is designed to provide small businesses with information on the new statewide masking mandate\, how and when to engage with law enforcement and to provide you with tips and tools on ways to help promote public health\, compliance and ensure your customer safety.
X-ALT-DESC;FMTTYPE=text/html:<span style="font-size:16px\;"><span style="color:black\;"><span style="font-family:calibri\,sans-serif\;">This webinar is designed to provide small businesses with information on the new statewide masking mandate\, how and when to engage with law enforcement and to provide you with tips and tools on ways to help promote public health\, compliance and ensure your customer safety.</span></span></span>
LOCATION:Zoom Webinar After you register\, you will receive an email confirmation that includes the Zoom conference link. If you do not receive a confirmation\, please email us at chamber@rochestermnchamber.com
UID:e.1427.1514973
SEQUENCE:3
DTSTAMP:20260423T033845Z
URL:http://business.rochestermnchamber.com/events/details/path-forward-masking-tips-and-tools-to-promote-public-health-compliance-and-ensure-customer-safety-1514973
END:VEVENT

END:VCALENDAR
