BEGIN:VCALENDAR
VERSION:2.0
PRODID:-//ChamberMaster//Event Calendar 2.0//EN
METHOD:PUBLISH
X-PUBLISHED-TTL:P3D
REFRESH-INTERVAL:P3D
CALSCALE:GREGORIAN
BEGIN:VEVENT
DTSTART:20190624T210000Z
DTEND:20190624T230000Z
X-MICROSOFT-CDO-ALLDAYEVENT:FALSE
SUMMARY:River Valley Power & Sport Marine Center Open House
DESCRIPTION:River Valley Power & Sport is celebrating the grand opening of their new Marine Center with an open house and a ribbon cutting. Join them at 4:00pm with a ribbon cutting at 4:30. Appetizers and beverages will be provided.
X-ALT-DESC;FMTTYPE=text/html:River Valley Power &amp\; Sport is celebrating the grand opening of their new Marine Center with an open house and a ribbon cutting. Join them at 4:00pm with a ribbon cutting at 4:30. Appetizers and beverages will be provided.&nbsp\;<br />\n&nbsp\;&nbsp\;&nbsp\;&nbsp\;
LOCATION:River Valley Power & Sport 5327 E Frontage Rd Rochester\, MN 55901
UID:e.1427.1514786
SEQUENCE:3
DTSTAMP:20260424T183053Z
URL:http://business.rochestermnchamber.com/events/details/river-valley-power-sport-marine-center-open-house-1514786
END:VEVENT

END:VCALENDAR
