BEGIN:VCALENDAR
VERSION:2.0
PRODID:-//ChamberMaster//Event Calendar 2.0//EN
METHOD:PUBLISH
X-PUBLISHED-TTL:P3D
REFRESH-INTERVAL:P3D
CALSCALE:GREGORIAN
BEGIN:VEVENT
DTSTART:20201029T130000Z
DTEND:20201030T020000Z
X-MICROSOFT-CDO-ALLDAYEVENT:FALSE
SUMMARY:#ShopLocalSafely Zoom Office Hours
DESCRIPTION:Learn more about the #ShopLocalSafely campaign and have your questions answered about the Shop Local Safely Retail Directory at this zoom office hours with the Chamber team. Learn more about how to post your business to the directory for FREE and maximize the #ShopLocalSafely campaign as we head into the holiday season.
X-ALT-DESC;FMTTYPE=text/html:Learn more about the #ShopLocalSafely campaign and have your questions answered about the Shop Local Safely Retail Directory at this zoom office hours with the Chamber team. Learn more about how to post your business to the directory for FREE and maximize the #ShopLocalSafely campaign as we head into the holiday season.
LOCATION:Virtual Zoom Webinar NOTE: Zoom information will be sent in the automatic registration confirmation email.
UID:e.1427.1514979
SEQUENCE:3
DTSTAMP:20260422T101217Z
URL:http://business.rochestermnchamber.com/events/details/shoplocalsafely-zoom-office-hours-1514979
END:VEVENT

END:VCALENDAR
