BEGIN:VCALENDAR
VERSION:2.0
PRODID:-//ChamberMaster//Event Calendar 2.0//EN
METHOD:PUBLISH
X-PUBLISHED-TTL:P3D
REFRESH-INTERVAL:P3D
CALSCALE:GREGORIAN
BEGIN:VEVENT
DTSTART:20190315T123000Z
DTEND:20190315T140000Z
X-MICROSOFT-CDO-ALLDAYEVENT:FALSE
SUMMARY:Women's Round Table
DESCRIPTION:Develop relationships within this supportive group of women leaders who meet the third Friday morning of each month. The Women's Round Table provides a small\, safe environment for women to: practice and refine skills\, discuss challenges specific to women in positions of leadership\, learn together and empower each other to take risks. Join us for a fun\, engaging program driven by the needs of the group.\n\n\n\nMarch Speaker: Regina Mustafa\n\n\n\nSpeaker Bio: Regina is originally from Philadelphia. She graduates this spring with a Masters in human services and multicultural education from Winona State University and is also pursuing a liscense in alcohol and drug counsiling. In 2014\, she formed the non-profit organization Community Interfaith Dialogue on Islam (CIDI). She is the recipient of several awards\, including the Mayor's Medal of Honor from Mayor Ardell Brede\, the Rising Champion of Justice Award from the Council on American-Islamic Relations\, the Bridge Builder Award from the Church of Jesus Christ of Latter-Day Saints\, and the Champion of Diversity Award from the Diversity Council of Rochester. Regina is also a wife and a mother of two young children. \n\n\n\n\n\n\n\n\n\n\n\n**Please note that all presentations and content delivered within or in the promotion of Round Table meetings are entirely Round Table Chair and member/attendee driven. Any messaging and content conveyed within and for these meetings is in no way representative of the Chamber's views\, ideals\, or positioning.**\n\n\n\nMembers of the Rochester Area Chamber of Commerce are welcome to attend. In addition\, prospective members are invited to attend twice before setting up a meeting to discuss whether Chamber membership is right for their organization.
X-ALT-DESC;FMTTYPE=text/html:<span style="background-image: initial\; background-position: initial\; background-size: initial\; background-repeat: initial\; background-attachment: initial\; background-origin: initial\; background-clip: initial\;"><font face="arial"><span style="font-size: 16px\;">Develop relationships within this supportive group of women leaders who meet the third Friday morning of each month. The Women&#39\;s Round Table provides a small\, safe environment for women to: practice and refine skills\, discuss challenges specific to women in positions of leadership\, learn together and empower each other to take risks. Join us for a fun\, engaging program driven by the needs of the group.<br />\n<br />\n<strong>March Speaker:&nbsp\;</strong>Regina Mustafa</span></font></span><br />\n<br />\n<strong>Speaker Bio:&nbsp\;</strong>Regina is originally from Philadelphia. She graduates this spring with a Masters in human services and multicultural education from Winona State University and is also pursuing a liscense in alcohol and drug counsiling. In 2014\, she formed the non-profit organization Community Interfaith Dialogue on Islam (CIDI). She is the recipient of several awards\, including the Mayor&#39\;s Medal of Honor from Mayor Ardell Brede\, the Rising Champion of Justice Award from the Council on American-Islamic Relations\, the Bridge Builder Award from the Church of Jesus Christ of Latter-Day Saints\, and the Champion of Diversity Award from the Diversity Council of Rochester. Regina is also a wife and a mother of two young children.&nbsp\;<br />\n<br />\n<br />\n<br />\n<br />\n<br />\n<span style="font-size: 16px\;"><span style="font-family: arial\;"><strong>**Please note that all presentations and content delivered within or in the promotion of Round Table meetings are entirely Round Table Chair and member/attendee driven. Any messaging and content conveyed within and for these meetings is in no way representative of the Chamber&#39\;s views\, ideals\, or positioning.**</strong><br />\n<br />\nMembers of the Rochester Area Chamber of Commerce are welcome to attend. In addition\, prospective members are invited to attend twice before setting up a meeting to discuss whether Chamber membership is right for their organization.</span></span>
LOCATION:Rochester Area Chamber of Commerce Jaguar Communications Video Conference Center 220 South Broadway\, Suite 100
UID:e.1427.1514597
SEQUENCE:3
DTSTAMP:20260425T023615Z
URL:http://business.rochestermnchamber.com/events/details/women-s-round-table-03-15-2019-1514597
END:VEVENT

END:VCALENDAR
