BEGIN:VCALENDAR
VERSION:2.0
PRODID:-//ChamberMaster//Event Calendar 2.0//EN
METHOD:PUBLISH
X-PUBLISHED-TTL:P3D
REFRESH-INTERVAL:P3D
CALSCALE:GREGORIAN
BEGIN:VEVENT
DTSTART:20240430T123000Z
DTEND:20240430T150000Z
X-MICROSOFT-CDO-ALLDAYEVENT:FALSE
SUMMARY:2024 Local Government Connect
DESCRIPTION:Join Rochester representatives from the City\, the County\, the Parks Department\, and the Public Schools to learn about their upcoming 2024 initiatives\, challenges\, and priorities during Local Government Connect! This event is a great opportunity to connect with Rochester leadership for insight into the initiatives impacting our local business community.\n\n \nAgenda: \n\n7:30am - Registration/breakfast served\n\n8:00 am - Welcome\n\n8:05 - 8:20am - Olmsted County Update \n\n\n	Sheila Kiscaden\, Board Chair\, Olmsted County Board of Commissioners \n	Heidi Welsch\, County Administrator\, Olmsted County\n\n\n8:20am   8:35am- Rochester Public Schools Update\n\n\n	Cathy Nathan\, Board Chair\, Rochester Public Schools\n	Dr. Kent Pekel\, Superintendent\, Rochester Public Schools\n\n\n8:35am   8:50am - City of Rochester Parks Department Update\n\n\n	Gary Neumann\, President\, Park Board\n	Paul Widman\, Director of Parks and Recreation\, City of Rochester\n\n\n8:50am   9:05 am - City of Rochester Update\n\n\n	Brooke Carlson\, Council President\, City of Rochester\n	Alison Zelms\, City Administrator\, City of Rochester \n\n\n9:05   9:30am - Panel Discussion\n\n9:30   10:00am - Networking\n\n10:00am - Closing\n\n\n\n*Speakers to be announced and agenda subject to change.*
X-ALT-DESC;FMTTYPE=text/html:<span style="font-family:verdana\;"><span style="font-size:14px\;">Join Rochester representatives from the City\, the County\, the Parks Department\, and the Public Schools to learn about their upcoming 2024 initiatives\, challenges\, and priorities during&nbsp\;<strong style="color: rgb(0\, 0\, 0)\; font-family: verdana\; font-size: 16px\;">Local Government Connect! </strong>This event is a great opportunity to connect with Rochester leadership for insight into the initiatives&nbsp\;impacting our local business community.</span></span><br />\n&nbsp\;\n<div style="color: rgb(64\, 63\, 66)\; font-family: Arial\, Verdana\, Helvetica\, sans-serif\; font-size: 14px\; white-space: pre-wrap\;"><span style="font-family:verdana\;"><span style="font-size:14px\;"><strong>Agenda: </strong></span></span></div>\n\n<div style="color: rgb(64\, 63\, 66)\; font-family: Arial\, Verdana\, Helvetica\, sans-serif\; font-size: 14px\; white-space: pre-wrap\;"><span style="font-family:verdana\;"><span style="font-size:14px\;">7:30am - Registration/breakfast served<br />\n8:00 am - Welcome</span></span><br />\n<span style="font-family:verdana\;"><span style="font-size:14px\;">8:05 - 8:20am - Olmsted County Update&nbsp\;</span></span></div>\n\n<ul>\n	<li style="color: rgb(64\, 63\, 66)\; font-family: Arial\, Verdana\, Helvetica\, sans-serif\; font-size: 14px\; white-space-collapse: preserve\;"><em><span style="font-family: verdana\;">Sheila Kiscaden\, Board Chair\, Olmsted County Board of Commissioners </span></em></li>\n	<li style="color: rgb(64\, 63\, 66)\; font-family: Arial\, Verdana\, Helvetica\, sans-serif\; font-size: 14px\; white-space: pre-wrap\;"><em><span style="font-family:verdana\;"><span style="font-size:14px\;">Heidi Welsch\, County Administrator\, Olmsted County</span></span></em></li>\n</ul>\n\n<div style="color: rgb(64\, 63\, 66)\; font-family: Arial\, Verdana\, Helvetica\, sans-serif\; font-size: 14px\; white-space: pre-wrap\;"><span style="font-family:verdana\;"><span style="font-size:14px\;">8:20am &ndash\; 8:35am- </span></span><span style="font-family: verdana\;">Rochester Public Schools Update</span></div>\n\n<ul>\n	<li style="color: rgb(64\, 63\, 66)\; font-family: Arial\, Verdana\, Helvetica\, sans-serif\; font-size: 14px\; white-space-collapse: preserve\;"><em><span style="font-family: verdana\;">Cathy Nathan\, Board Chair\, Rochester Public Schools</span></em></li>\n	<li style="color: rgb(64\, 63\, 66)\; font-family: Arial\, Verdana\, Helvetica\, sans-serif\; font-size: 14px\; white-space-collapse: preserve\;"><em><span style="font-family: verdana\;">Dr. Kent Pekel\, Superintendent\, Rochester Public Schools</span></em></li>\n</ul>\n\n<div style="color: rgb(64\, 63\, 66)\; font-family: Arial\, Verdana\, Helvetica\, sans-serif\; font-size: 14px\; white-space: pre-wrap\;"><span style="font-family:verdana\;"><span style="font-size:14px\;">8:35am &ndash\; 8:50am - City of Rochester Parks Department Update</span></span></div>\n\n<ul>\n	<li style="color: rgb(64\, 63\, 66)\; font-family: Arial\, Verdana\, Helvetica\, sans-serif\; font-size: 14px\; white-space-collapse: preserve\;"><em><span style="font-family:verdana\,sans-serif\;"><span style="font-size:10.5pt\;">Gary Neumann\, President\, Park Board</span></span></em></li>\n	<li style="color: rgb(64\, 63\, 66)\; font-family: Arial\, Verdana\, Helvetica\, sans-serif\; font-size: 14px\; white-space-collapse: preserve\;"><em><span style="font-family: verdana\;">Paul Widman\, Director of Parks and Recreation\, City of Rochester</span></em></li>\n</ul>\n\n<div style="color: rgb(64\, 63\, 66)\; font-family: Arial\, Verdana\, Helvetica\, sans-serif\; font-size: 14px\; white-space: pre-wrap\;"><span style="font-family:verdana\;"><span style="font-size:14px\;">8:50am &ndash\; 9:05 am - </span></span><span style="font-family: verdana\;">City of Rochester Update</span></div>\n\n<ul>\n	<li><em><span style="font-family: verdana\;"><span style="font-size: 14px\;"><span style="white-space-collapse: preserve\;">Brooke Carlson\, Council President\, City of Rochester</span></span></span></em></li>\n	<li><em><span style="font-family: verdana\;"><span style="font-size: 14px\;"><span style="white-space-collapse: preserve\;">Alison Zelms\, City Administrator\, City of Rochester </span></span></span></em></li>\n</ul>\n\n<div style="color: rgb(64\, 63\, 66)\; font-family: Arial\, Verdana\, Helvetica\, sans-serif\; font-size: 14px\; white-space: pre-wrap\;"><span style="font-family:verdana\;"><span style="font-size:14px\;">9:05 &ndash\; 9:30am - Panel Discussion</span></span><br />\n<span style="color: rgb(64\, 63\, 66)\; font-family: verdana\; font-size: 14px\; white-space-collapse: preserve\;">9:30 &ndash\; 10:00am - Networking</span><br />\n<span style="font-family:verdana\;"><span style="font-size:14px\;">10:00am - Closing</span></span><br />\n<br />\n<em><span style="font-size:12px\;"><span style="font-family:verdana\;">*Speakers to be announced and agenda subject to change.*</span></span></em></div>\n
LOCATION:Chateau Theatre 15 1st St SW Rochester\, MN 55902
UID:e.1427.1515659
SEQUENCE:3
DTSTAMP:20260423T015023Z
URL:https://business.rochestermnchamber.com/events/details/2024-local-government-connect-1515659
END:VEVENT

END:VCALENDAR
