BEGIN:VCALENDAR
VERSION:2.0
PRODID:-//ChamberMaster//Event Calendar 2.0//EN
METHOD:PUBLISH
X-PUBLISHED-TTL:P3D
REFRESH-INTERVAL:P3D
CALSCALE:GREGORIAN
BEGIN:VEVENT
DTSTART:20240425T163000Z
DTEND:20240425T213000Z
X-MICROSOFT-CDO-ALLDAYEVENT:FALSE
SUMMARY:2024 Workforce Development Forum
DESCRIPTION:Employers and community partners throughout Southeast Minnesota are invited to attend the 2024 Workforce Development Forum. Join us as we explore ways to build\, invigorate\, and invest in workforce development and the Southeast Minnesota regional economy.\n\n \n\nThe Chamber\, Workforce Development\, Inc.\, Winona Workforce Development Board and CareerForce will host this event featuring keynote speaker\, Gerry Hoeffner\, and the Best Places to Work program.\n\n                                                   \n\nAgenda:\n\n	Networking\n	Welcome\, Lunch \n	Keynote Speaker\n	Employer Panel Discussion\n	Best Places to Work Celebration & Awards\n\n \n\nKeynote Speaker:\n\n\n	Gerry Hoeffner\, President\, Personnel Dynamics Consulting Group & Best Places to Work Program
X-ALT-DESC;FMTTYPE=text/html:<span style="color:black\;"><span style="font-family:arial\,sans-serif\;">Employers and community partners throughout Southeast Minnesota are invited to attend the 2024 Workforce Development Forum. Join us as we explore ways to build\, invigorate\, and invest in workforce development and the Southeast Minnesota regional economy.</span></span><br />\n&nbsp\;<br />\n<span style="color:black\;"><span style="font-family:arial\,sans-serif\;">The Chamber\, Workforce Development\, Inc.\, Winona Workforce Development Board and CareerForce will host this event featuring keynote speaker\, Gerry Hoeffner\, and the Best Places to Work program.</span></span><br />\n&nbsp\;&nbsp\;&nbsp\;&nbsp\;&nbsp\;&nbsp\;&nbsp\;&nbsp\;&nbsp\;&nbsp\;&nbsp\;&nbsp\;&nbsp\;&nbsp\;&nbsp\;&nbsp\;&nbsp\;&nbsp\;&nbsp\;&nbsp\;&nbsp\;&nbsp\;&nbsp\;&nbsp\;&nbsp\;&nbsp\;&nbsp\;&nbsp\;&nbsp\;&nbsp\;&nbsp\;&nbsp\;&nbsp\;&nbsp\;&nbsp\;&nbsp\;&nbsp\;&nbsp\;&nbsp\;&nbsp\;&nbsp\;&nbsp\;&nbsp\;&nbsp\;&nbsp\;&nbsp\;&nbsp\;&nbsp\;&nbsp\;&nbsp\;&nbsp\;<br />\n<strong><span style="color:black\;"><span style="font-family:arial\,sans-serif\;">Agenda:</span></span></strong>\n<ul>\n	<li><span style="color:black\;"><span style="font-family:arial\,sans-serif\;">Networking</span></span></li>\n	<li><span style="color:black\;"><span style="font-family:arial\,sans-serif\;">Welcome\, Lunch </span></span></li>\n	<li><span style="color:black\;"><span style="font-family:arial\,sans-serif\;">Keynote Speaker</span></span></li>\n	<li><span style="color:black\;"><span style="font-family:arial\,sans-serif\;">Employer Panel Discussion</span></span></li>\n	<li><span style="color:black\;"><span style="font-family:arial\,sans-serif\;">Best Places to Work Celebration &amp\; Awards</span></span></li>\n</ul>\n&nbsp\;<br />\n<strong><span style="color:black\;"><span style="font-family:arial\,sans-serif\;">Keynote Speaker:</span></span></strong>\n\n<ul>\n	<li><span style="color:black\;"><span style="font-family:arial\,sans-serif\;">Gerry Hoeffner\, President\, Personnel Dynamics Consulting Group &amp\; Best Places to Work Program</span></span></li>\n</ul>\n
LOCATION:Rochester International Event Center 7333 Airport View Drive SW\, Rochester\, MN 55902
UID:e.1427.1515658
SEQUENCE:3
DTSTAMP:20260423T014903Z
URL:https://business.rochestermnchamber.com/events/details/2024-workforce-development-forum-1515658
END:VEVENT

END:VCALENDAR
