BEGIN:VCALENDAR
VERSION:2.0
PRODID:-//ChamberMaster//Event Calendar 2.0//EN
METHOD:PUBLISH
X-PUBLISHED-TTL:P3D
REFRESH-INTERVAL:P3D
CALSCALE:GREGORIAN
BEGIN:VEVENT
DTSTART:20251001T130000Z
DTEND:20251001T153000Z
X-MICROSOFT-CDO-ALLDAYEVENT:FALSE
SUMMARY:2025 EduTech Outlook
DESCRIPTION:The greater Rochester area possesses a strong and engaged collection of higher education institutions. These organizations play an important role in training the future workforce and next generation of leaders. In addition\, these educational institutions employ a significant number of people in the region. It is critical for the business community to maintain a close relationship with higher ed\, and the EduTech Outlook is an event which provides this opportunity. From updates on projects and initiatives\, to identifying emerging workforce trends\, this annual event connects businesses and education leaders to discuss collaboration and engagement opportunities between the private and educational sectors.\n\n \n\nWith the rise in new technologies\, the 2025 EduTech Outlook will include a keynote from Andre Tost\, IBM Distinguished Engineer and Worldwide IBM AI Engineer\, as well as speakers on cybersecurity and artificial intelligence. As these technologies become ever more important\, hear from experts on how these technologies intersect with both business and higher education.\n\n\n\nJoin us on Wednesday\, October 1st\, from 8:00am to 10:30am\, to hear from students and leaders from local higher education institutions about the outlook for higher education in the Rochester region.\n\n\n\nRegistration is requested by end of day on Tuesday\, September 30.\n\n\n\nAgenda:\n\n7:30am - Registration \n\n\n\n8:00am - Welcome/Open Remarks \n\n\n\n8:10am - Technology Keynote\n\nAndre Tost\, IBM Distinguished Engineer and Worldwide IBM AI Engineer\n\nAndre is a Distinguished Engineer at IBM and one of IBM's leading technical experts on Artificial Intelligence\, Hybrid Cloud\, IT Architecture and Software Engineering. He currently works as an AI Engineer in the IBM watsonx organization\, focusing on bringing Generative AI solutions to enterprises across the globe.\n\n\n\n Before his current assignment\, he acted as the CTO for the AI Center of Competence in IBM Security\, as well as the Chief Architect for IBM Cloud Paks\, which deliver IBM's software portfolio running in containers on Red Hat OpenShift.\n\n\n\nThroughout his career\, Andre has worked in various consulting\, development\, and architecture roles in IBM. He has worked with large IT organizations across the globe across a broad set of technologies and has acted as Lead Architect for many large IT projects. He started his career at IBM as a C++ and Java developer and still enjoys developing code.\n\n\n\nAndre co-authored six technical books\, published over 40 technical articles and has spoken at conferences worldwide. Originally from Germany\, he now lives and works in Rochester\, Minnesota (US).\n\n \n\n8:40am - Higher Education Leadership Panel Discussion\n\n         Moderator - Ryan Parsons\, President\, Rochester Area Chamber of Commerce\n\n	Dr. Jeffery Boyd\, President\, Rochester Community and Technical College\n	Dr. Lori Carrell\, Chancellor\, University of Minnesota Rochester \n	Dr. Kenneth Janz\, President\, Winona State University\n\n9:10am - Break\n\n\n\n9:20am - Technology Panel Discussion \n\n\n	Philip Truesdale\, Interim Chief Information Security Officer\, Senior Director\, Technology Protection\, Mayo Clinic\n	Andre Tost\, IBM Distinguished Engineer and Worldwide IBM AI Engineer\, IBM\n\n9:50am - Student Experience Panel Discussion\n\n\n	Thayne Decker '26\, Computer Science Major\, Winona State University\n	Maria Garcia-Moya '27\, Heath Sciences Pathway\, University of Minnesota Rochester\n	Diyar Giyash '27\, Cyber Security and Computer Science Major\, Rochester Community and Technical College\n	Garrett Rotzien '26\, Accounting Major\, Business Intelligence Major\, Saint Mary's University of Minnesota\n\n10:20am - EduTech Closing Comments \n\n \n\n10:45am   Chamber Annual Meeting (Included with EduTech Admission)\n\n \n\n11:15am   Chamber Annual Meeting Concludes\n\n\n\n*Additional contributors to be announced. Agenda subject to change.\n\n\n\n\n\nBy attending a Chamber event\, you consent to the Chamber Event Policy.
X-ALT-DESC;FMTTYPE=text/html:<span style="color:black\;"><span style="font-family:verdana\,sans-serif\;"><span style="font-size:10.5pt\;">The greater Rochester area possesses a strong and engaged collection of higher education institutions. These organizations play an important role in training the future workforce and next generation of leaders. In addition\, these educational institutions employ a significant number of people in the region. It is critical for the business community to maintain a close relationship with higher ed\, and the EduTech Outlook is an event which provides this opportunity. From updates on projects and initiatives\, to identifying emerging workforce trends\, this annual event connects businesses and education leaders to discuss collaboration and engagement opportunities between the private and educational sectors.<br />\n&nbsp\;<br />\nWith the rise in new technologies\, the 2025 EduTech Outlook will include a keynote from Andre Tost\, <em>IBM Distinguished Engineer and Worldwide IBM AI Engineer\,&nbsp\;</em>as well as speakers on cybersecurity and artificial intelligence. As these technologies become ever more important\, hear from experts on how these technologies intersect with both business and higher education.<br />\n<br />\nJoin us on Wednesday\, October 1st\, from 8:00am to 10:30am\, to hear from students and leaders from local higher education institutions about the outlook for higher education in the Rochester region.</span></span></span><br />\n<br />\n<strong><span style="color:red\;"><span style="font-family:verdana\,sans-serif\;"><span style="font-size:10.5pt\;">Registration is requested by end of day on Tuesday\, September 30.</span></span></span></strong><br />\n<br />\n<strong><u><span style="color:black\;"><span style="font-family:verdana\,sans-serif\;"><span style="font-size:10.5pt\;">Agenda</span></span></span></u></strong><span style="color:black\;"><span style="font-family:verdana\,sans-serif\;"><span style="font-size:10.5pt\;">:<br />\n<strong>7:30am - Registration&nbsp\;</strong></span></span></span><br />\n<br />\n<strong><span style="color:black\;"><span style="font-family:verdana\,sans-serif\;"><span style="font-size:10.5pt\;">8:00am - Welcome/Open Remarks&nbsp\;<br />\n<br />\n8:10am - Technology Keynote</span></span></span></strong><br />\n<strong><em><span style="color:black\;"><span style="font-family:verdana\,sans-serif\;"><span style="font-size:10.5pt\;">Andre Tost\,&nbsp\;IBM Distinguished Engineer and Worldwide IBM AI Engineer</span></span></span></em></strong><br />\n<span style="color:black\;"><span style="font-family:verdana\,sans-serif\;"><span style="font-size:10.5pt\;">Andre is a Distinguished Engineer at IBM and one of IBM&#39\;s leading technical experts on Artificial Intelligence\, Hybrid Cloud\, IT Architecture and Software Engineering. He currently works as an AI Engineer in the IBM watsonx organization\, focusing on bringing Generative AI solutions to enterprises across the globe.</span></span></span><br />\n<br />\n&#65279\;<span style="color:black\;"><span style="font-family:verdana\,sans-serif\;"><span style="font-size:10.5pt\;">Before his current assignment\, he acted as the CTO for the AI Center of Competence in IBM Security\, as well as the Chief Architect for IBM Cloud Paks\, which deliver IBM&#39\;s software portfolio running in containers on Red Hat OpenShift.<br />\n<br />\nThroughout his career\, Andre has worked in various consulting\, development\, and architecture roles in IBM. He has worked with large IT organizations across the globe across a broad set of technologies and has acted as Lead Architect for many large IT projects. He started his career at IBM as a C++ and Java developer and still enjoys developing code.<br />\n<br />\nAndre co-authored six technical books\, published over 40 technical articles and has spoken at conferences worldwide. Originally from Germany\, he now lives and works in Rochester\, Minnesota (US).</span></span></span><br />\n&nbsp\;<br />\n<strong><span style="color:black\;"><span style="font-family:verdana\,sans-serif\;"><span style="font-size:10.5pt\;">8:40am - Higher Education Leadership Panel Discussion</span></span></span></strong><br />\n<span style="color:black\;"><span style="font-family:verdana\,sans-serif\;"><span style="font-size:10.5pt\;">&nbsp\; &nbsp\; &nbsp\;&nbsp\;&nbsp\;&nbsp\;&nbsp\;Moderator - Ryan Parsons\,&nbsp\;<em>President\,</em>&nbsp\;<em>Rochester Area Chamber of Commerce</em></span></span></span>\n<ul>\n	<li style="line-height:normal\;"><em><span style="color:black\;"><span style="font-family:verdana\,sans-serif\;"><span style="font-size:10.5pt\;">Dr. Jeffery Boyd\,&nbsp\;President\,&nbsp\;Rochester Community and Technical College</span></span></span></em></li>\n	<li style="line-height:normal\;"><em><span style="color:black\;"><span style="font-family:verdana\,sans-serif\;"><span style="font-size:10.5pt\;">Dr. Lori Carrell\,&nbsp\;Chancellor\,&nbsp\;University of Minnesota Rochester&nbsp\;</span></span></span></em></li>\n	<li style="line-height:normal\;"><em><span style="color:black\;"><span style="font-family:verdana\,sans-serif\;"><span style="font-size:10.5pt\;">Dr. Kenneth Janz\,&nbsp\;President\,&nbsp\;Winona State University</span></span></span></em></li>\n</ul>\n<strong><span style="color:black\;"><span style="font-family:verdana\,sans-serif\;"><span style="font-size:10.5pt\;">9:10am - Break</span></span></span></strong><br />\n<br />\n<strong><span style="color:black\;"><span style="font-family:verdana\,sans-serif\;"><span style="font-size:10.5pt\;">9:20am - Technology Panel Discussion&nbsp\;</span></span></span></strong>\n\n<ul>\n	<li style="margin-bottom:0in\;"><span style="color:#000000\;"><em><span style="font-family:verdana\,sans-serif\;"><span style="font-size:10.5pt\;">Philip Truesdale\, Interim Chief Information Security Officer\, Senior Director\, Technology Protection\, Mayo Clinic</span></span></em></span></li>\n	<li style="margin-bottom:0in\;"><span style="color:#000000\;"><em><span style="font-family:verdana\,sans-serif\;"><span style="font-size:10.5pt\;">Andre Tost\, IBM Distinguished Engineer and Worldwide IBM AI Engineer\, IBM</span></span></em></span></li>\n</ul>\n<strong><span style="color:black\;"><span style="font-family:verdana\,sans-serif\;"><span style="font-size:10.5pt\;">9:50am - Student Experience Panel Discussion</span></span></span></strong>\n\n<ul>\n	<li style="line-height:normal\;"><em><span style="color:black\;"><span style="font-family:verdana\,sans-serif\;"><span style="font-size:10.5pt\;">Thayne Decker &lsquo\;26\, Computer Science Major\, Winona State University</span></span></span></em></li>\n	<li style="line-height:normal\;"><em><span style="color:black\;"><span style="font-family:verdana\,sans-serif\;"><span style="font-size:10.5pt\;">Maria Garcia-Moya &#39\;27\, Heath Sciences Pathway\, University of Minnesota Rochester</span></span></span></em></li>\n	<li style="line-height:normal\;"><em><span style="color:black\;"><span style="font-family:verdana\,sans-serif\;"><span style="font-size:10.5pt\;">Diyar Giyash &lsquo\;27\, Cyber Security and Computer Science Major\, Rochester Community and Technical College</span></span></span></em></li>\n	<li style="line-height:normal\;"><em><span style="color:black\;"><span style="font-family:verdana\,sans-serif\;"><span style="font-size:10.5pt\;">Garrett Rotzien &rsquo\;26\, Accounting Major\, Business Intelligence Major\, Saint Mary&rsquo\;s University of Minnesota</span></span></span></em></li>\n</ul>\n<strong><span style="color:black\;"><span style="font-family:verdana\,sans-serif\;"><span style="font-size:10.5pt\;">10:20am - EduTech Closing Comments&nbsp\;</span></span></span></strong><br />\n&nbsp\;<br />\n<strong><span style="color:#7030A0\;"><span style="font-family:verdana\,sans-serif\;"><span style="font-size:10.5pt\;">10:45am &ndash\; Chamber Annual Meeting (Included with EduTech Admission)</span></span></span></strong><br />\n&nbsp\;<br />\n<strong><span style="color:#7030A0\;"><span style="font-family:verdana\,sans-serif\;"><span style="font-size:10.5pt\;">11:15am &ndash\; Chamber Annual Meeting Concludes</span></span></span></strong><br />\n<br />\n<span style="color:black\;"><em><span style="background:white\;"><span style="color:black\;"><span style="font-family:verdana\,sans-serif\;"><span style="font-size:10.5pt\;">*Additional contributors to be announced. Agenda subject to change.</span></span></span></span></em><br />\n<br />\n<br />\n<span style="font-size:14px\;"><span style="font-family:verdana\;"><span style="color: rgb(0\, 0\, 0)\;">By attending a Chamber event\, you consent to the</span><em style="color: rgb(0\, 0\, 0)\; font-family: arial\, sans-serif\; font-size: 16px\;">&nbsp\;</em><strong style="color: rgb(0\, 0\, 0)\; font-family: arial\, sans-serif\; font-size: 16px\;"><a href="https://www.rochestermnchamber.com/event-policy/">Chamber Event Policy.</a></strong></span></span> </span>\n\n<div style="color: rgb(64\, 63\, 66)\; font-family: Arial\, Verdana\, Helvetica\, sans-serif\; font-size: 14px\; white-space: pre-wrap\;"><span style="color:black\;"><span style="display: none\;">&nbsp\;</span></span></div>\n<span style="color:black\;"> </span>\n\n<div><span style="color:black\;">&nbsp\;</span></div>\n<span style="color:black\;"> </span>
LOCATION:IBM Building 25 2800 37th St. NW Rochester\, MN 55901
UID:e.1427.1515811
SEQUENCE:3
DTSTAMP:20260422T032512Z
URL:https://business.rochestermnchamber.com/events/details/2025-edutech-outlook-1515811
END:VEVENT

END:VCALENDAR
