BEGIN:VCALENDAR
VERSION:2.0
PRODID:-//ChamberMaster//Event Calendar 2.0//EN
METHOD:PUBLISH
X-PUBLISHED-TTL:P3D
REFRESH-INTERVAL:P3D
CALSCALE:GREGORIAN
BEGIN:VEVENT
DTSTART:20240508T140000Z
DTEND:20240508T153000Z
X-MICROSOFT-CDO-ALLDAYEVENT:FALSE
SUMMARY:Business Development Exchange (BDX) - Employee Assistant Programs (EAPs)
DESCRIPTION:Employee Assistance Programs (EAPs) can help employees with personal obstacles that affect their job performance. EAPs and employee engagement best practices can pinpoint and address a wide variety of health\, financial\, and social issues in the workplace. Join the Rochester Chamber\, Benike Construction\, Family Service Rochester\, Olmsted County\, and Think Bank on Wednesday morning\, May 8th to learn more about EAPs and how you can bring them into your business practices.\n\n \n\n\n\nSpeakers:\n\n	Mike Benike\, Benike Construction\n	\n		Office and field staff EAPs\, 'BE Well' Program\n	\n	\n	 Ashleigh Dowis\, Family Service Rochester\n	\n		 Importance of workplace mental health and well-being\n	\n	\n	Shaylene Baumbach\, Olmsted County\n	\n		Community-wide EAPs\, 'CredibleMind' Program\n	\n	\n	Therese White\, Think Bank\n	\n		Employee engagement best practices
X-ALT-DESC;FMTTYPE=text/html:<span style="font-size:14px\;"><span style="font-family:arial\;">Employee Assistance Programs (EAPs) can help employees with personal obstacles that affect their job performance. EAPs and employee engagement best practices can pinpoint and address a wide variety of health\, financial\, and social issues in the workplace. Join the Rochester Chamber\, Benike Construction\, Family Service Rochester\, Olmsted County\, and Think Bank on Wednesday morning\, May 8<sup>th</sup> to learn more about EAPs and how you can bring them into your business practices.<br />\n&nbsp\;<br />\n<br />\n<strong>Speakers:</strong></span></span>\n<ul>\n	<li style="margin-bottom:0in\;margin-bottom:.0001pt\;"><span style="font-size:14px\;"><span style="font-family:arial\;"><span style="color:black\;">Mike Benike\, Benike Construction</span></span></span>\n	<ul style="list-style-type:circle\;">\n		<li style="margin-top:0in\;margin-right:0in\;margin-bottom:0in\;margin-bottom:.0001pt\;"><span style="font-size:14px\;"><span style="font-family:arial\;"><span style="color:black\;">Office and field staff EAPs\, &lsquo\;BE Well&rsquo\; Program</span></span></span></li>\n	</ul>\n	</li>\n	<li style="margin-top:0in\;margin-right:0in\;margin-bottom:0in\;margin-bottom:.0001pt\;"><span style="font-size:14px\;"><span style="font-family:arial\;"><span style="color:black\;">&#8203\;Ashleigh Dowis\,&nbsp\;Family Service Rochester</span></span></span>\n	<ul>\n		<li style="margin-top:0in\;margin-right:0in\;margin-bottom:0in\;margin-bottom:.0001pt\;"><span style="font-size:14px\;"><span style="font-family:arial\;"><span style="color:black\;">&#8203\;Importance of workplace mental health and well-being</span></span></span></li>\n	</ul>\n	</li>\n	<li style="margin-bottom:0in\;margin-bottom:.0001pt\;"><span style="font-size:14px\;"><span style="font-family:arial\;"><span style="color:black\;">Shaylene Baumbach\, Olmsted County</span></span></span>\n	<ul style="list-style-type:circle\;">\n		<li style="margin-top:0in\;margin-right:0in\;margin-bottom:0in\;margin-bottom:.0001pt\;"><span style="font-size:14px\;"><span style="font-family:arial\;"><span style="color:black\;">Community-wide EAPs\, &lsquo\;CredibleMind&rsquo\; Program</span></span></span></li>\n	</ul>\n	</li>\n	<li style="margin-bottom:0in\;margin-bottom:.0001pt\;"><span style="font-size:14px\;"><span style="font-family:arial\;"><span style="color:black\;">Therese White\, Think Bank</span></span></span>\n	<ul style="list-style-type:circle\;">\n		<li style="margin-top:0in\;margin-right:0in\;margin-bottom:0in\;margin-bottom:.0001pt\;"><span style="font-size:14px\;"><span style="font-family:arial\;"><span style="color:black\;">Employee engagement best practices</span></span></span></li>\n	</ul>\n	</li>\n</ul>\n
LOCATION:People's Energy Cooperative 1775 Lake Shady Avenue South Oronoco\, MN 55960
UID:e.1427.1515662
SEQUENCE:3
DTSTAMP:20260423T014555Z
URL:https://business.rochestermnchamber.com/events/details/business-development-exchange-bdx-employee-assistant-programs-eaps-1515662
END:VEVENT

END:VCALENDAR
