BEGIN:VCALENDAR
VERSION:2.0
PRODID:-//ChamberMaster//Event Calendar 2.0//EN
METHOD:PUBLISH
X-PUBLISHED-TTL:P3D
REFRESH-INTERVAL:P3D
CALSCALE:GREGORIAN
BEGIN:VEVENT
DTSTART:20251112T200000Z
DTEND:20251112T213000Z
X-MICROSOFT-CDO-ALLDAYEVENT:FALSE
SUMMARY:Business Development Exchange (BDX) - 'People First' HR Best Practices
DESCRIPTION:Join the Chamber on Wednesday\, November 12 for a session on HR best practices with a focus on putting people first. Learn how effective employee communication and purposeful employee engagement strategies can shape a positive workplace culture. The session will explore practical ways to support your employees outside of the workplace\, offer insights into building trust\, and provide best practices for relaying that information. Whether you are an HR leader\, employer\, or team member- this session offers valuable takeaways for everyone.  \n\n \n\nAgenda:  \n\n\n\n1:45 pm | Registration \n\n\n\n2:00 pm | Welcome\n\n	2:10 pm - 2:25 pm |Employee Engagement & Employee Culture \n	\n		Therese White\, VP of Employee Services\, Think Bank \n	\n	\n\n \n\n\n	2:25 pm - 2:40 pm | Supporting Employees Who are Caregiving \n\n	\n		Jennifer Pinske\, Director of Community Engagement\, Family Service Rochester\n	\n	\n\n \n\n\n	 2:40 pm - 2:55 pm | Employee Communication Do's and Do Not's\n\n	\n		 Megan Malugani\, Owner\, Malugani Communications\n	\n	\n\n\n\n3:00 pm - 3:20 pm | Panel Q & A\n\n\n\n3:20 pm | Networking and Door Prizes \n\n\n\nBy attending a Chamber event\, you consent to the Chamber Event Policy.
X-ALT-DESC;FMTTYPE=text/html:<span style="font-size:14px\;"><span style="font-family:verdana\;"><span style="color: rgb(0\, 0\, 0)\;">Join the Chamber on Wednesday\, November 12 for a session on HR best practices with a focus on putting&nbsp\;</span><i style="color: rgb(0\, 0\, 0)\; font-family: Calibri\, Helvetica\, sans-serif\; font-size: 16px\;">people first.</i></span><span style="color: rgb(0\, 0\, 0)\; font-family: Calibri\, Helvetica\, sans-serif\;"><span style="font-family:verdana\;">&nbsp\;Learn how effective employee communication and purposeful employee engagement strategies can shape a positive workplace culture. The session will explore practical ways to support your employees outside of the workplace\, offer insights into building trust\, and provide best practices for relaying that information. Whether you are an HR leader\, employer\, or team member- this session offers valuable takeaways for everyone.</span>&nbsp\;&nbsp\;</span></span><br />\n<span style="font-family:arial\;">&nbsp\;<br />\n<span style="font-size:14px\;"><span style="font-family:verdana\;"><strong>Agenda:&nbsp\;&nbsp\;</strong></span></span></span><br />\n<br />\n<span style="font-family:verdana\;"><strong>1:45 pm |</strong>&nbsp\;Registration&nbsp\;<br />\n<br />\n<strong>2:00 pm |</strong>&nbsp\;Welcome</span>\n<ul>\n	<li><span style="font-family:verdana\;"><strong>2:10 pm - 2:25 pm |</strong>Employee Engagement &amp\; Employee Culture&nbsp\;</span>\n	<ul>\n		<li><span style="font-family:verdana\;"><em>Therese White\, VP of Employee Services\,&nbsp\;Think Bank</em><em>&#8203\;</em></span></li>\n	</ul>\n	</li>\n</ul>\n&nbsp\;\n\n<ul>\n	<li><span style="font-family:verdana\;"><strong>2:25 pm - 2:40 pm | </strong>Supporting Employees Who are Caregiving&nbsp\;</span>\n\n	<ul>\n		<li><span style="font-family:verdana\;"><em>Jennifer Pinske\, Director of Community Engagement\,&nbsp\;Family Service Rochester</em></span></li>\n	</ul>\n	</li>\n</ul>\n&nbsp\;\n\n<ul>\n	<li><span style="font-family:verdana\;">&#8203\;<strong>2:40 pm - 2:55 pm | </strong>Employee Communication Do&#39\;s and Do Not&#39\;s</span>\n\n	<ul>\n		<li><span style="font-family:verdana\;"><em>&nbsp\;Megan Malugani\, Owner\,&nbsp\;Malugani Communications</em></span></li>\n	</ul>\n	</li>\n</ul>\n<br />\n<span style="font-family:verdana\;"><strong>3:00 pm - 3:20 pm |</strong>&nbsp\;Panel Q &amp\; A<br />\n<br />\n<strong>3:20 pm |&nbsp\;</strong>Networking and Door Prizes&nbsp\;</span><br />\n<br />\n<strong><span style="font-family:aptos\,sans-serif\;"><span style="font-size:11.0pt\;">By attending a Chamber event\, you consent to the&nbsp\;<a href="https://www.rochestermnchamber.com/event-policy/">Chamber Event Policy.</a></span></span></strong>\n\n<div style="color: rgb(64\, 63\, 66)\; font-family: Arial\, Verdana\, Helvetica\, sans-serif\; font-size: 14px\; white-space: pre-wrap\;">\n<div style="color: rgb(64\, 63\, 66)\; font-family: Arial\, Verdana\, Helvetica\, sans-serif\; font-size: 14px\; white-space: pre-wrap\;">&nbsp\;</div>\n</div>\n
LOCATION:Family Service Rochester Conference Room 4600 18th Ave NW\, Rochester\, MN 55901
UID:e.1427.1515863
SEQUENCE:3
DTSTAMP:20260422T015652Z
URL:https://business.rochestermnchamber.com/events/details/business-development-exchange-bdx-people-first-hr-best-practices-1515863
END:VEVENT

END:VCALENDAR
