BEGIN:VCALENDAR
VERSION:2.0
PRODID:-//ChamberMaster//Event Calendar 2.0//EN
METHOD:PUBLISH
X-PUBLISHED-TTL:P3D
REFRESH-INTERVAL:P3D
CALSCALE:GREGORIAN
BEGIN:VEVENT
DTSTART:20240309T150000Z
DTEND:20240309T180000Z
X-MICROSOFT-CDO-ALLDAYEVENT:FALSE
SUMMARY:Candidate Training Program: Session 2
DESCRIPTION:2024 marks a year bustling with elections on the local\, state\, and federal level. The Rochester Area Chamber of Commerce is pleased to announce our Candidate Training Program which will work to equip those who are considering running for local office with the needed resources and information to run a successful campaign. Over the course of the three trainings\, topics covered will include how to craft your messaging\, information on filing deadlines\, budgeting\, campaign finance regulations\, leveraging social media\, and more.\n\n\n\nTopics covered at this training include:\n\n	How to plan and budget for your campaign\n	Crafting your campaign message\n	\n		Positioning statements\n		Messaging\n	\n	\n	Leveraging social media\n	\n		Rules\, strategy\, best practices\n	\n	\n	Fundraising\n	\n		Best practices and campaign finance regulations\n	\n	\n\nTo register\, please email jkrull@rochestermnchamber.com \n\n\n\nLight refreshments will be provided. \n\n\n\nPlease note that the one time fee of $25 to attend all three training sessions is non refundable.
X-ALT-DESC;FMTTYPE=text/html:<br />\n2024 marks a year bustling with elections on the local\, state\, and federal level. The Rochester Area Chamber of Commerce is pleased to announce our <strong><em>Candidate Training Program</em></strong> which will work to equip those who are considering running for local office with the needed resources and information to run a successful campaign. Over the course of the three trainings\, topics covered will include how to craft your messaging\, information on filing deadlines\, budgeting\, campaign finance regulations\, leveraging social media\, and more.<br />\n<br />\nTopics covered at this training include:\n<ul>\n	<li>How to plan and budget for your campaign</li>\n	<li>Crafting your campaign message\n	<ul>\n		<li>Positioning statements</li>\n		<li>Messaging</li>\n	</ul>\n	</li>\n	<li>Leveraging social media\n	<ul>\n		<li>Rules\, strategy\, best practices</li>\n	</ul>\n	</li>\n	<li>Fundraising\n	<ul>\n		<li>Best practices and campaign finance regulations</li>\n	</ul>\n	</li>\n</ul>\n<span style="color:#FF0000\;"><strong>To register\, please email jkrull@rochestermnchamber.com&nbsp\;</strong></span><br />\n<br />\nLight refreshments will be provided.&nbsp\;<br />\n<br />\nPlease note that the one time fee of $25 to attend all three training sessions is non refundable.
LOCATION:Rochester Area Chamber of Commerce 220 Broadway Ave S. Suite 100 Rochester\, MN 55904
UID:e.1427.1515656
SEQUENCE:3
DTSTAMP:20260423T025111Z
URL:https://business.rochestermnchamber.com/events/details/candidate-training-program-session-2-1515656
END:VEVENT

END:VCALENDAR
