BEGIN:VCALENDAR
VERSION:2.0
PRODID:-//ChamberMaster//Event Calendar 2.0//EN
METHOD:PUBLISH
X-PUBLISHED-TTL:P3D
REFRESH-INTERVAL:P3D
CALSCALE:GREGORIAN
BEGIN:VEVENT
DTSTART:20240406T140000Z
DTEND:20240406T170000Z
X-MICROSOFT-CDO-ALLDAYEVENT:FALSE
SUMMARY:Candidate Training Program: Session 3
DESCRIPTION:2024 marks a year bustling with elections on the local\, state\, and federal level. The Rochester Area Chamber of Commerce is pleased to announce our Candidate Training Program which will work to equip those who are considering running for local office with the needed resources and information to run a successful campaign. Over the course of the three trainings\, topics covered will include how to craft your messaging\, information on filing deadlines\, budgeting\, campaign finance regulations\, leveraging social media\, and more.\n\n\n\nTopics covered at this training include:\n\n	How to connect with voters\n	\n		Time Management\, Community Engagement\, Best Practices\n	\n	\n	Public Speaking \n	\n		Debate Prep\, Tips\, and Tricks\n	\n	\n	Engaging with Media\n	\n		Interview Prep\, Advertising\n	\n	\n	Approaching Election Day\, Get Out The Vote!\n\nTo register\, please email jkrull@rochestermnchamber.com \n\n\n\nLight refreshments will be provided. \n\n\n\nPlease note that the one time fee of $25 to attend all three training sessions is non refundable.
X-ALT-DESC;FMTTYPE=text/html:<br />\n2024 marks a year bustling with elections on the local\, state\, and federal level. The Rochester Area Chamber of Commerce is pleased to announce our <strong><em>Candidate Training Program</em></strong> which will work to equip those who are considering running for local office with the needed resources and information to run a successful campaign. Over the course of the three trainings\, topics covered will include how to craft your messaging\, information on filing deadlines\, budgeting\, campaign finance regulations\, leveraging social media\, and more.<br />\n<br />\nTopics covered at this training include:\n<ul>\n	<li>How to connect with voters\n	<ul>\n		<li>Time Management\, Community Engagement\, Best Practices</li>\n	</ul>\n	</li>\n	<li>Public Speaking&nbsp\;\n	<ul>\n		<li>Debate Prep\, Tips\, and Tricks</li>\n	</ul>\n	</li>\n	<li>Engaging with Media\n	<ul>\n		<li>Interview Prep\, Advertising</li>\n	</ul>\n	</li>\n	<li>Approaching Election Day\, Get Out The Vote!</li>\n</ul>\n<strong style="color: rgb(255\, 0\, 0)\;">To register\, please email jkrull@rochestermnchamber.com&nbsp\;</strong><br />\n<br />\nLight refreshments will be provided.&nbsp\;<br />\n<br />\nPlease note that the one time fee of $25 to attend all three training sessions is non refundable.
LOCATION:Rochester Area Chamber of Commerce 220 Broadway Ave S. Suite 100 Rochester\, MN 55904
UID:e.1427.1515657
SEQUENCE:3
DTSTAMP:20260423T014408Z
URL:https://business.rochestermnchamber.com/events/details/candidate-training-program-session-3-1515657
END:VEVENT

END:VCALENDAR
