BEGIN:VCALENDAR
VERSION:2.0
PRODID:-//ChamberMaster//Event Calendar 2.0//EN
METHOD:PUBLISH
X-PUBLISHED-TTL:P3D
REFRESH-INTERVAL:P3D
CALSCALE:GREGORIAN
BEGIN:VEVENT
DTSTART:20240312T203000Z
DTEND:20240312T213000Z
X-MICROSOFT-CDO-ALLDAYEVENT:FALSE
SUMMARY:Chamber 101
DESCRIPTION:Are you a new member of the Rochester Area Chamber of Commerce\, or a long-time member needing a refresh? Join us for our Chamber 101 event in the Rochester Chamber Conference Room on Tuesday\, March 12th from 3:30pm-4:30pm.\n\n\n\nThis event will help educate you on your membership and highlight the resources and tools that we provide to help you meet your business goals and objectives!\n\n\n\nSnacks\, refreshments\, and door prizes will be provided. We look forward to seeing you there!
X-ALT-DESC;FMTTYPE=text/html:<div><span style="background:white\;"><span style="color:#333333\;"><span style="font-family:arial\,sans-serif\;">Are you a new member of the Rochester Area Chamber of Commerce\, or a long-time member needing a refresh? Join us for our Chamber 101 event in the Rochester Chamber Conference Room on Tuesday\, March 12th&nbsp\;from 3:30pm-4:30pm.<br />\n<br />\nThis event will help educate you on your membership and highlight the resources and tools that we provide to help you meet your business goals and objectives!<br />\n<br />\nSnacks\, refreshments\, and door prizes will be provided. We look forward to seeing you there!</span></span></span></div>\n
LOCATION:Rochester Area Chamber of Commerce Conference Room 220 Broadway Ave S Suite 100\, Rochester\, MN 55904 Parking: Second Street Ramp - 14 2nd St SE\, Rochester\, MN 55904 Entrance: Same entrance as Hotel Indigo and CRAVE
UID:e.1427.1515649
SEQUENCE:3
DTSTAMP:20260423T025304Z
URL:https://business.rochestermnchamber.com/events/details/chamber-101-1515649
END:VEVENT

END:VCALENDAR
