BEGIN:VCALENDAR
VERSION:2.0
PRODID:-//ChamberMaster//Event Calendar 2.0//EN
METHOD:PUBLISH
X-PUBLISHED-TTL:P3D
REFRESH-INTERVAL:P3D
CALSCALE:GREGORIAN
BEGIN:VEVENT
DTSTART:20251021T200000Z
DTEND:20251021T210000Z
X-MICROSOFT-CDO-ALLDAYEVENT:FALSE
SUMMARY:Chamber 101
DESCRIPTION:Are you a new member of the Rochester Area Chamber of Commerce\, or a long-time member needing a refresh? Join us for our Chamber 101 event on Tuesday\, October 21 from 3:00pm-4:00pm.\n\n\n\nThis event will help educate you on your membership and highlight the resources and tools that we provide to help you meet your business goals and objectives!\n\n\n\nSnacks\, refreshments\, and door prizes will be provided. We look forward to seeing you there!\n\n\n\nBy attending a Chamber event\, you consent to the Chamber Event Policy.
X-ALT-DESC;FMTTYPE=text/html:<div><span style="background:white\;"><span style="color:#333333\;"><span style="font-family:arial\,sans-serif\;">Are you a new member of the Rochester Area Chamber of Commerce\, or a long-time member needing a refresh? Join us for our Chamber 101 event&nbsp\;on Tuesday\, October 21&nbsp\;from 3:00pm-4:00pm.<br />\n<br />\nThis event will help educate you on your membership and highlight the resources and tools that we provide to help you meet your business goals and objectives!<br />\n<br />\nSnacks\, refreshments\, and door prizes will be provided. We look forward to seeing you there!</span></span></span><br />\n<br />\n<span style="font-size:14px\;"><span style="color: rgb(0\, 0\, 0)\; font-family: arial\, sans-serif\;">By attending a Chamber event\, you consent to the</span></span><span style="font-size:11px\;"><span style="font-size:14px\;"><em style="color: rgb(0\, 0\, 0)\; font-family: arial\, sans-serif\; font-size: 16px\;">&nbsp\;</em></span><strong style="color: rgb(0\, 0\, 0)\; font-family: arial\, sans-serif\; font-size: 16px\;"><a href="https://www.rochestermnchamber.com/event-policy/">Chamber Event Policy.</a></strong></span></div>\n
LOCATION:Rochester Area Chamber of Commerce - Conference Room 220 Broadway Ave. S Ste 100 Rochester\, Minnesota 55904 *Parking available within First Street Ramp\, Center Street Ramp\, and the Civic Center Ramp. You may access our office by entering Hotel Indigo via skyway level and down the stairs/elevator across from CRAVE.
UID:e.1427.1515864
SEQUENCE:3
DTSTAMP:20260422T031736Z
URL:https://business.rochestermnchamber.com/events/details/chamber-101-1515864
END:VEVENT

END:VCALENDAR
