BEGIN:VCALENDAR
VERSION:2.0
PRODID:-//ChamberMaster//Event Calendar 2.0//EN
METHOD:PUBLISH
X-PUBLISHED-TTL:P3D
REFRESH-INTERVAL:P3D
CALSCALE:GREGORIAN
BEGIN:VEVENT
DTSTART:20240417T150000Z
DTEND:20240417T160000Z
X-MICROSOFT-CDO-ALLDAYEVENT:FALSE
SUMMARY:Chamber Info Session: Parkland Dedication Ordinance Update
DESCRIPTION:The Rochester Area Chamber of Commerce will host an information session with the City of Rochester on the upcoming Parkland Dedication Ordinance update on Wednesday\, April 17th. The City of Rochester team is interested in the thoughts of businesses in regards to the proposed updates.\n\n \n\nParkland Dedication is a component of modern development in the City of Rochester and over the past few years\, the City Council\, Park Board\, and the City team have had discussions on how to enhance the community through parkland dedication.\n\n \n\nTo help with this work\, the City hired Clarion Associates to complete a parkland study for the City and make recommendations around ordinance updates. The study and recommendations are complete and the Chamber welcomes you to join us on April 17th to hear the recommended updates\, share feedback\, and ask any questions to the City of Rochester about the ordinance update.
X-ALT-DESC;FMTTYPE=text/html:<br />\n<span style="font-size:16px\;"><span style="font-family:arial\;"><span style="color:black\;">The Rochester Area Chamber of Commerce will host an information session with the City of Rochester on the upcoming Parkland Dedication Ordinance update on Wednesday\, April 17th. The City of Rochester team is interested in the thoughts of businesses in regards to the proposed updates.<br />\n&nbsp\;<br />\nParkland Dedication is a component of modern development in the City of Rochester and over the past few years\, the City Council\, Park Board\, and the City team have had discussions on how to enhance the community through parkland dedication.</span><br />\n&nbsp\;<br />\n<span style="background-image:initial\;background-position:initial\;background-size:initial\;background-repeat:initial\;background-attachment:initial\;background-origin:initial\;background-clip:initial\;"><span style="color:black\;">To help with this work\, the City hired Clarion Associates to complete a parkland study for the City and make recommendations around ordinance updates. The study and recommendations are complete and the Chamber welcomes you to join us on April 17</span></span><sup><span style="color:black\;">th</span></sup><span style="background-image:initial\;background-position:initial\;background-size:initial\;background-repeat:initial\;background-attachment:initial\;background-origin:initial\;background-clip:initial\;"><span style="color:black\;">&nbsp\;to hear the recommended updates\, share feedback\, and ask any questions to the City of Rochester about the ordinance update.</span></span></span></span><br />\n&nbsp\;
LOCATION:Saint Mary's University of Minnesota 2900 19th St NW Rochester\, MN 55901
UID:e.1427.1515671
SEQUENCE:3
DTSTAMP:20260423T025502Z
URL:https://business.rochestermnchamber.com/events/details/chamber-info-session-parkland-dedication-ordinance-update-1515671
END:VEVENT

END:VCALENDAR
