BEGIN:VCALENDAR
VERSION:2.0
PRODID:-//ChamberMaster//Event Calendar 2.0//EN
METHOD:PUBLISH
X-PUBLISHED-TTL:P3D
REFRESH-INTERVAL:P3D
CALSCALE:GREGORIAN
BEGIN:VEVENT
DTSTART:20260515T123000Z
DTEND:20260515T140000Z
X-MICROSOFT-CDO-ALLDAYEVENT:FALSE
SUMMARY:Women's Roundtable
DESCRIPTION:Develop relationships within this supportive group of women leaders who meet the third Friday morning of each month. The Women's Roundtable provides a small\, safe environment for women to: practice and refine skills\, discuss challenges specific to women in positions of leadership\, learn together and empower each other to take risks. Join us for a fun\, engaging program driven by the needs of the group.\n\n\n\nPlease join us this month at Rochester Title & Escrow!\n\n\n\nSpeaker details TBA\n\n\n\n\n\n**Please note that all presentations and content delivered within or in the promotion of Roundtable meetings are entirely Roundtable Chair and member/attendee driven. Any messaging and content conveyed within and for these meetings is in no way representative of the Chamber's views\, ideals\, or positioning.**
X-ALT-DESC;FMTTYPE=text/html:<div>\n<div dir="ltr" style="border: 0px\; font: inherit\; margin: 0px\; padding: 0px\; vertical-align: baseline\; color: inherit\;">\n<div dir="ltr" style="border: 0px\; font: inherit\; margin: 0px\; padding: 0px\; vertical-align: baseline\; color: inherit\;">\n<div class="x_x_elementToProof" data-olk-copy-source="MessageBody" style="border: 0px\; font-style: inherit\; font-variant: inherit\; font-weight: inherit\; font-stretch: inherit\; font-size: 12pt\; line-height: inherit\; font-family: Tahoma\, Geneva\, sans-serif\; font-optical-sizing: inherit\; font-size-adjust: inherit\; font-kerning: inherit\; font-feature-settings: inherit\; font-variation-settings: inherit\; margin: 0px\; padding: 0px\; vertical-align: baseline\;"><span style="font-size: 14px\; font-family: verdana\;">Develop relationships within this supportive group of women leaders who meet the third Friday morning of each month. The Women&#39\;s Roundtable provides a small\, safe environment for women to: practice and refine skills\, discuss challenges specific to women in positions of leadership\, learn together and empower each other to take risks. Join us for a fun\, engaging program driven by the needs of the group.<br />\n<br />\nPlease join us this month at <strong>Rochester Title &amp\; Escrow</strong>!<br />\n<br />\n<strong>Speaker details TBA</strong></span></div>\n</div>\n</div>\n</div>\n<br background-color:="" font-size:="" trebuchet="" />\n<span style="font-family:verdana\;"><span style="font-size: 14px\;"><span trebuchet=""><strong>**Please note that all presentations and content delivered within or in the promotion of Roundtable meetings are entirely Roundtable Chair and member/attendee driven. Any messaging and content conveyed within and for these meetings is in no way representative of the Chamber&#39\;s views\, ideals\, or positioning.**</strong></span></span></span>
LOCATION:Rochester Title & Escrow Company 2870 Superior Dr NW Rochester\, MN 55901
UID:e.1427.1515849
SEQUENCE:3
DTSTAMP:20260421T174453Z
URL:https://business.rochestermnchamber.com/events/details/women-s-roundtable-rochester-title-escrow-1515849
END:VEVENT

END:VCALENDAR
